Package: biscuiteerData Version: 1.25.0 Command: /home/biocbuild/bbs-3.23-bioc/R/bin/R CMD INSTALL biscuiteerData StartedAt: 2025-11-20 10:58:02 -0500 (Thu, 20 Nov 2025) EndedAt: 2025-11-20 10:58:21 -0500 (Thu, 20 Nov 2025) EllapsedTime: 19.0 seconds RetCode: 0 Status: OK