Package: cfToolsData Version: 1.9.0 Maintainer: Ran Hu MaintainerEmail: huran at ucla.edu git_url: https://git.bioconductor.org/packages/cfToolsData git_branch: devel git_last_commit: 57c3cfe git_last_commit_date: 2025-10-29 10:05:52 -0500 (Wed, 29 Oct 2025)