Package: curatedBladderData Version: 1.47.0 Maintainer: Markus Riester MaintainerEmail: markus at jimmy.harvard.edu git_url: https://git.bioconductor.org/packages/curatedBladderData git_branch: devel git_last_commit: 5332db8 git_last_commit_date: 2025-10-29 09:53:57 -0500 (Wed, 29 Oct 2025)