Package: curatedBladderData Version: 1.47.0 Command: /home/biocbuild/bbs-3.23-bioc/R/bin/R CMD build --keep-empty-dirs --no-resave-data curatedBladderData StartedAt: 2025-11-11 11:11:38 -0500 (Tue, 11 Nov 2025) EndedAt: 2025-11-11 11:12:08 -0500 (Tue, 11 Nov 2025) EllapsedTime: 29.7 seconds RetCode: 0 Status: OK PackageFile: curatedBladderData_1.47.0.tar.gz PackageFileSize: 74.8 MiB