Package: easierData Version: 1.17.0 Command: /home/biocbuild/bbs-3.23-bioc/R/bin/R CMD build --keep-empty-dirs --no-resave-data easierData StartedAt: 2025-11-06 11:16:07 -0500 (Thu, 06 Nov 2025) EndedAt: 2025-11-06 11:16:54 -0500 (Thu, 06 Nov 2025) EllapsedTime: 47.5 seconds RetCode: 0 Status: OK PackageFile: easierData_1.17.0.tar.gz PackageFileSize: 408.2 KiB