Package: eoPredData Version: 1.5.0 Maintainer: Victor Yuan MaintainerEmail: victor.2wy at gmail.com git_url: https://git.bioconductor.org/packages/eoPredData git_branch: devel git_last_commit: 5854957 git_last_commit_date: 2025-10-29 10:06:48 -0500 (Wed, 29 Oct 2025)