Package: gDNAinRNAseqData Version: 1.11.0 Maintainer: Robert Castelo MaintainerEmail: robert.castelo at upf.edu git_url: https://git.bioconductor.org/packages/gDNAinRNAseqData git_branch: devel git_last_commit: f627492 git_last_commit_date: 2025-10-29 10:05:30 -0500 (Wed, 29 Oct 2025)