Package: hapmapsnp5 Version: 1.53.0 Maintainer: Benilton Carvalho MaintainerEmail: Benilton.Carvalho at cancer.org.uk git_url: https://git.bioconductor.org/packages/hapmapsnp5 git_branch: devel git_last_commit: 924b003 git_last_commit_date: 2025-10-29 09:31:21 -0500 (Wed, 29 Oct 2025)