Package: hapmapsnp6 Version: 1.53.0 Maintainer: Benilton Carvalho MaintainerEmail: Benilton.Carvalho at cancer.org.uk git_url: https://git.bioconductor.org/packages/hapmapsnp6 git_branch: devel git_last_commit: 3be1258 git_last_commit_date: 2025-10-29 09:31:23 -0500 (Wed, 29 Oct 2025)