Package: harbChIP Version: 1.49.0 Maintainer: VJ Carey MaintainerEmail: stvjc at channing.harvard.edu git_url: https://git.bioconductor.org/packages/harbChIP git_branch: devel git_last_commit: 90701ae git_last_commit_date: 2025-10-29 09:30:13 -0500 (Wed, 29 Oct 2025)