Package: healthyControlsPresenceChecker Version: 1.15.0 Maintainer: Davide Chicco MaintainerEmail: davide.chicco at gmail.com git_url: https://git.bioconductor.org/packages/healthyControlsPresenceChecker git_branch: devel git_last_commit: 2d17613 git_last_commit_date: 2025-10-29 10:04:42 -0500 (Wed, 29 Oct 2025)