Package: optimalFlowData Version: 1.23.0 Maintainer: Hristo Inouzhe MaintainerEmail: hristo.inouzhe at gmail.com git_url: https://git.bioconductor.org/packages/optimalFlowData git_branch: devel git_last_commit: af24258 git_last_commit_date: 2025-10-29 10:02:37 -0500 (Wed, 29 Oct 2025)