Package: pasilla Version: 1.39.0 Command: /home/biocbuild/bbs-3.23-bioc/R/bin/R CMD INSTALL pasilla StartedAt: 2025-11-13 11:00:55 -0500 (Thu, 13 Nov 2025) EndedAt: 2025-11-13 11:01:28 -0500 (Thu, 13 Nov 2025) EllapsedTime: 32.6 seconds RetCode: 0 Status: OK