Package: plotgardenerData Version: 1.17.0 Command: /home/biocbuild/bbs-3.23-bioc/R/bin/R CMD build --keep-empty-dirs --no-resave-data plotgardenerData StartedAt: 2025-11-06 11:35:28 -0500 (Thu, 06 Nov 2025) EndedAt: 2025-11-06 11:35:32 -0500 (Thu, 06 Nov 2025) EllapsedTime: 4.3 seconds RetCode: 0 Status: OK PackageFile: plotgardenerData_1.17.0.tar.gz PackageFileSize: 2.388 MiB