Package: prostateCancerTaylor Version: 1.39.0 Command: /home/biocbuild/bbs-3.23-bioc/R/bin/R CMD build --keep-empty-dirs --no-resave-data prostateCancerTaylor StartedAt: 2025-11-20 11:37:55 -0500 (Thu, 20 Nov 2025) EndedAt: 2025-11-20 11:38:08 -0500 (Thu, 20 Nov 2025) EllapsedTime: 12.9 seconds RetCode: 0 Status: OK PackageFile: prostateCancerTaylor_1.39.0.tar.gz PackageFileSize: 25.77 MiB