Package: pumadata Version: 2.47.0 Maintainer: Xuejun liu MaintainerEmail: xuejun.liu at nuaa.edu.cn git_url: https://git.bioconductor.org/packages/pumadata git_branch: devel git_last_commit: beb5433 git_last_commit_date: 2025-10-29 09:30:53 -0500 (Wed, 29 Oct 2025)