Package: sampleClassifierData Version: 1.35.0 Command: /home/biocbuild/bbs-3.23-bioc/R/bin/R CMD build --keep-empty-dirs --no-resave-data sampleClassifierData StartedAt: 2025-11-06 11:39:57 -0500 (Thu, 06 Nov 2025) EndedAt: 2025-11-06 11:40:24 -0500 (Thu, 06 Nov 2025) EllapsedTime: 26.0 seconds RetCode: 0 Status: OK PackageFile: sampleClassifierData_1.35.0.tar.gz PackageFileSize: 15.51 MiB