Package: scATAC.Explorer Version: 1.17.0 Maintainer: Jonathan Wang MaintainerEmail: jwan2633 at uwo.ca git_url: https://git.bioconductor.org/packages/scATAC.Explorer git_branch: devel git_last_commit: 295a297 git_last_commit_date: 2025-10-29 10:04:34 -0500 (Wed, 29 Oct 2025)