Back to Build/check report for BioC 3.23 experimental data
ABCDEFGHIJKLMNOPQR[S]TUVWXYZ

This page was generated on 2025-11-06 15:01 -0500 (Thu, 06 Nov 2025).

HostnameOSArch (*)R versionInstalled pkgs
nebbiolo1Linux (Ubuntu 24.04.3 LTS)x86_64R Under development (unstable) (2025-10-20 r88955) -- "Unsuffered Consequences" 4818
Click on any hostname to see more info about the system (e.g. compilers)      (*) as reported by 'uname -p', except on Windows and Mac OS X

All results for package sesameData


To the developers/maintainers of the sesameData package:
- Use the following Renviron settings to reproduce errors and warnings.
- If 'R CMD check' started to fail recently on the Linux builder(s) over a missing dependency, add the missing dependency to 'Suggests:' in your DESCRIPTION file. See Renviron.bioc for more information.

raw results

Package 361/431HostnameOS / ArchINSTALLBUILDCHECK
sesameData 1.29.1  (landing page)
Wanding Zhou
Snapshot Date: 2025-11-06 07:00 -0500 (Thu, 06 Nov 2025)
git_url: https://git.bioconductor.org/packages/sesameData
git_branch: devel
git_last_commit: 6ec5de6
git_last_commit_date: 2025-11-02 20:50:11 -0500 (Sun, 02 Nov 2025)
nebbiolo1Linux (Ubuntu 24.04.3 LTS) / x86_64  OK    OK    OK  UNNEEDED, same version is already published