Package: signatureSearchData Version: 1.25.0 Command: /home/biocbuild/bbs-3.23-bioc/R/bin/R CMD INSTALL signatureSearchData StartedAt: 2025-11-06 10:57:00 -0500 (Thu, 06 Nov 2025) EndedAt: 2025-11-06 10:57:05 -0500 (Thu, 06 Nov 2025) EllapsedTime: 5.0 seconds RetCode: 0 Status: OK