Package: simpIntLists Version: 1.47.0 Maintainer: Kircicegi Korkmaz MaintainerEmail: e102771 at ceng.metu.edu.tr git_url: https://git.bioconductor.org/packages/simpIntLists git_branch: devel git_last_commit: 14b0aaa git_last_commit_date: 2025-10-29 09:32:07 -0500 (Wed, 29 Oct 2025)