Package: systemPipeRdata Version: 2.15.0 Maintainer: Thomas Girke MaintainerEmail: thomas.girke at ucr.edu git_url: https://git.bioconductor.org/packages/systemPipeRdata git_branch: devel git_last_commit: ba14edf git_last_commit_date: 2025-10-29 09:56:57 -0500 (Wed, 29 Oct 2025)