Package: tweeDEseqCountData Version: 1.49.0 Maintainer: Dolors Pelegri-Siso MaintainerEmail: dolors.pelegri at isglobal.org git_url: https://git.bioconductor.org/packages/tweeDEseqCountData git_branch: devel git_last_commit: 97ea89e git_last_commit_date: 2025-10-29 09:32:53 -0500 (Wed, 29 Oct 2025)