Package: ExpressionNormalizationWorkflow Version: 1.37.0 Command: /home/biocbuild/bbs-3.23-bioc/R/bin/R CMD build --keep-empty-dirs --no-resave-data ExpressionNormalizationWorkflow StartedAt: 2025-11-11 13:04:48 -0500 (Tue, 11 Nov 2025) EndedAt: 2025-11-11 13:10:19 -0500 (Tue, 11 Nov 2025) EllapsedTime: 331.2 seconds RetCode: 0 Status: OK PackageFile: ExpressionNormalizationWorkflow_1.37.0.tar.gz PackageFileSize: 3.418 MiB