Package: ExpressionNormalizationWorkflow Version: 1.37.0 Command: /home/biocbuild/bbs-3.23-bioc/R/bin/R CMD INSTALL ExpressionNormalizationWorkflow StartedAt: 2025-11-11 13:00:28 -0500 (Tue, 11 Nov 2025) EndedAt: 2025-11-11 13:00:51 -0500 (Tue, 11 Nov 2025) EllapsedTime: 23.1 seconds RetCode: 0 Status: OK