FlowRepositoryR 1.5.0 Josef Spidlen
 | Snapshot Date: 2016-09-19 19:15:14 -0700 (Mon, 19 Sep 2016) |  | URL: https://hedgehog.fhcrc.org/bioconductor/trunk/madman/Rpacks/FlowRepositoryR |  | Last Changed Rev: 117081 / Revision: 121152 |  | Last Changed Date: 2016-05-03 14:30:44 -0700 (Tue, 03 May 2016) |  
  | zin1  | Linux (Ubuntu 16.04 LTS) / x86_64  |  OK  |  OK  |  OK  |  |   | 
| moscato1  | Windows Server 2008 R2 Standard (64-bit) / x64  |  OK  |  OK  |  OK  | [ OK ] |   | 
| morelia  | Mac OS X Mavericks (10.9.5) / x86_64  |  OK  |  OK  |  OK  |  OK  |   | 
##############################################################################
##############################################################################
###
### Running command:
###
###   cd FlowRepositoryR.buildbin-libdir/FlowRepositoryR && zip -r ../../FlowRepositoryR_1.5.0.zip . & cd ../..
###
##############################################################################
##############################################################################
  adding: DESCRIPTION (188 bytes security) (deflated 43%)
  adding: doc/ (208 bytes security) (stored 0%)
  adding: doc/HowTo-FlowRepositoryR.pdf (188 bytes security) (deflated 10%)
  adding: doc/HowTo-FlowRepositoryR.R (188 bytes security) (deflated 75%)
  adding: doc/HowTo-FlowRepositoryR.Rnw (188 bytes security) (deflated 68%)
  adding: doc/index.html (188 bytes security) (deflated 61%)
  adding: help/ (208 bytes security) (stored 0%)
  adding: help/aliases.rds (188 bytes security) (stored 0%)
  adding: help/AnIndex (188 bytes security) (deflated 84%)
  adding: help/FlowRepositoryR.rdb (188 bytes security) (deflated 1%)
  adding: help/FlowRepositoryR.rdx (188 bytes security) (stored 0%)
  adding: help/paths.rds (188 bytes security) (stored 0%)
  adding: html/ (208 bytes security) (stored 0%)
  adding: html/00Index.html (188 bytes security) (deflated 87%)
  adding: html/R.css (188 bytes security) (deflated 75%)
  adding: INDEX (188 bytes security) (deflated 72%)
  adding: MD5 (188 bytes security) (deflated 46%)
  adding: Meta/ (208 bytes security) (stored 0%)
  adding: Meta/hsearch.rds (188 bytes security) (stored 0%)
  adding: Meta/links.rds (188 bytes security) (stored 0%)
  adding: Meta/nsInfo.rds (188 bytes security) (stored 0%)
  adding: Meta/package.rds (188 bytes security) (stored 0%)
  adding: Meta/Rd.rds (188 bytes security) (stored 0%)
  adding: Meta/vignette.rds (188 bytes security) (stored 0%)
  adding: NAMESPACE (188 bytes security) (deflated 60%)
  adding: NEWS (188 bytes security) (deflated 70%)
  adding: R/ (208 bytes security) (stored 0%)
  adding: R/FlowRepositoryR (188 bytes security) (deflated 41%)
  adding: R/FlowRepositoryR.rdb (188 bytes security) (deflated 29%)
  adding: R/FlowRepositoryR.rdx (188 bytes security) (stored 0%)
  adding: unitTests/ (208 bytes security) (stored 0%)
  adding: unitTests/test_downloads.R (188 bytes security) (deflated 78%)
  adding: unitTests/test_flowRep.get.R (188 bytes security) (deflated 72%)
  adding: unitTests/test_flowRep.ls.R (188 bytes security) (deflated 31%)
  adding: unitTests/test_flowRep.search.R (188 bytes security) (deflated 38%)
  adding: unitTests/test_generics.R (188 bytes security) (deflated 76%)
  adding: unitTests/test_helpers.R (188 bytes security) (deflated 68%)
  adding: unitTests/test_impc_dict.R (188 bytes security) (deflated 57%)
  adding: unitTests/test_settings.R (188 bytes security) (deflated 65%)