| Back to Multiple platform build/check report for BioC 3.6 experimental data |
This page was generated on 2018-04-12 12:49:36 -0400 (Thu, 12 Apr 2018).
| Package 101/326 | Hostname | OS / Arch | INSTALL | BUILD | CHECK | BUILD BIN | ||||||
| Fletcher2013a 1.14.0 Mauro Castro
| malbec1 | Linux (Ubuntu 16.04.1 LTS) / x86_64 | OK | [ OK ] | OK |
| Package: Fletcher2013a |
| Version: 1.14.0 |
| Command: /home/biocbuild/bbs-3.6-bioc/R/bin/R CMD build --keep-empty-dirs --no-resave-data Fletcher2013a |
| StartedAt: 2018-04-12 09:11:18 -0400 (Thu, 12 Apr 2018) |
| EndedAt: 2018-04-12 09:11:36 -0400 (Thu, 12 Apr 2018) |
| EllapsedTime: 17.7 seconds |
| RetCode: 0 |
| Status: OK |
| PackageFile: Fletcher2013a_1.14.0.tar.gz |
| PackageFileSize: 69.97 MiB |
############################################################################## ############################################################################## ### ### Running command: ### ### /home/biocbuild/bbs-3.6-bioc/R/bin/R CMD build --keep-empty-dirs --no-resave-data Fletcher2013a ### ############################################################################## ############################################################################## * checking for file ‘Fletcher2013a/DESCRIPTION’ ... OK * preparing ‘Fletcher2013a’: * checking DESCRIPTION meta-information ... OK * installing the package to build vignettes * creating vignettes ... OK * checking for LF line-endings in source and make files and shell scripts * checking for empty or unneeded directories * looking to see if a ‘data/datalist’ file should be added * building ‘Fletcher2013a_1.14.0.tar.gz’