| Back to Multiple platform build/check report for BioC 3.6 experimental data |
This page was generated on 2018-04-12 12:49:39 -0400 (Thu, 12 Apr 2018).
| Package 131/326 | Hostname | OS / Arch | INSTALL | BUILD | CHECK | BUILD BIN | ||||||
| h5vcData 1.112.0 Paul Theodor Pyl
| malbec1 | Linux (Ubuntu 16.04.1 LTS) / x86_64 | OK | OK | [ OK ] |
| Package: h5vcData |
| Version: 1.112.0 |
| Command: /home/biocbuild/bbs-3.6-bioc/R/bin/R CMD check --no-vignettes --timings h5vcData_1.112.0.tar.gz |
| StartedAt: 2018-04-12 10:05:59 -0400 (Thu, 12 Apr 2018) |
| EndedAt: 2018-04-12 10:06:17 -0400 (Thu, 12 Apr 2018) |
| EllapsedTime: 18.7 seconds |
| RetCode: 0 |
| Status: OK |
| CheckDir: h5vcData.Rcheck |
| Warnings: 0 |
##############################################################################
##############################################################################
###
### Running command:
###
### /home/biocbuild/bbs-3.6-bioc/R/bin/R CMD check --no-vignettes --timings h5vcData_1.112.0.tar.gz
###
##############################################################################
##############################################################################
* using log directory ‘/home/biocbuild/bbs-3.6-data-experiment/meat/h5vcData.Rcheck’
* using R version 3.4.4 (2018-03-15)
* using platform: x86_64-pc-linux-gnu (64-bit)
* using session charset: UTF-8
* using option ‘--no-vignettes’
* checking for file ‘h5vcData/DESCRIPTION’ ... OK
* checking extension type ... Package
* this is package ‘h5vcData’ version ‘1.112.0’
* checking package namespace information ... OK
* checking package dependencies ... OK
* checking if this is a source package ... OK
* checking if there is a namespace ... OK
* checking for hidden files and directories ... OK
* checking for portable file names ... OK
* checking for sufficient/correct file permissions ... OK
* checking whether package ‘h5vcData’ can be installed ... OK
* checking installed package size ... NOTE
installed size is 25.9Mb
sub-directories of 1Mb or more:
extdata 25.8Mb
* checking package directory ... OK
* checking DESCRIPTION meta-information ... NOTE
Malformed Description field: should contain one or more complete sentences.
* checking top-level files ... OK
* checking for left-over files ... OK
* checking index information ... OK
* checking package subdirectories ... OK
* checking R files for non-ASCII characters ... OK
* checking R files for syntax errors ... OK
* checking whether the package can be loaded ... OK
* checking whether the package can be loaded with stated dependencies ... OK
* checking whether the package can be unloaded cleanly ... OK
* checking whether the namespace can be loaded with stated dependencies ... OK
* checking whether the namespace can be unloaded cleanly ... OK
* checking dependencies in R code ... OK
* checking S3 generic/method consistency ... OK
* checking replacement functions ... OK
* checking foreign function calls ... OK
* checking R code for possible problems ... OK
* checking Rd files ... OK
* checking Rd metadata ... OK
* checking Rd cross-references ... OK
* checking for missing documentation entries ... OK
* checking for code/documentation mismatches ... OK
* checking Rd \usage sections ... OK
* checking Rd contents ... OK
* checking for unstated dependencies in examples ... OK
* checking contents of ‘data’ directory ... OK
* checking data for non-ASCII characters ... OK
* checking data for ASCII and uncompressed saves ... OK
* checking examples ... OK
* checking PDF version of manual ... OK
* DONE
Status: 2 NOTEs
See
‘/home/biocbuild/bbs-3.6-data-experiment/meat/h5vcData.Rcheck/00check.log’
for details.
h5vcData.Rcheck/00install.out
* installing *source* package ‘h5vcData’ ... ** R ** data ** inst ** preparing package for lazy loading ** help *** installing help indices ** building package indices ** testing if installed package can be loaded * DONE (h5vcData)
h5vcData.Rcheck/h5vcData-Ex.timings
| name | user | system | elapsed | |
| h5vcData-package | 0.016 | 0.004 | 0.023 | |