| Back to Multiple platform build/check report for BioC 3.7 experimental data | 
This page was generated on 2018-10-16 14:18:40 -0400 (Tue, 16 Oct 2018).
| Package 6/342 | Hostname | OS / Arch | INSTALL | BUILD | CHECK | BUILD BIN | ||||||
| Affyhgu133Plus2Expr 1.14.0 Zhicheng Ji 
 | malbec2 | Linux (Ubuntu 16.04.1 LTS) / x86_64 | OK | [ OK ] | OK |  | 
| Package: Affyhgu133Plus2Expr | 
| Version: 1.14.0 | 
| Command: /home/biocbuild/bbs-3.7-bioc/R/bin/R CMD build --keep-empty-dirs --no-resave-data Affyhgu133Plus2Expr | 
| StartedAt: 2018-10-16 09:43:40 -0400 (Tue, 16 Oct 2018) | 
| EndedAt: 2018-10-16 09:43:58 -0400 (Tue, 16 Oct 2018) | 
| EllapsedTime: 17.8 seconds | 
| RetCode: 0 | 
| Status: OK | 
| PackageFile: Affyhgu133Plus2Expr_1.14.0.tar.gz | 
| PackageFileSize: 224.4 MiB | 
############################################################################## ############################################################################## ### ### Running command: ### ### /home/biocbuild/bbs-3.7-bioc/R/bin/R CMD build --keep-empty-dirs --no-resave-data Affyhgu133Plus2Expr ### ############################################################################## ############################################################################## * checking for file ‘Affyhgu133Plus2Expr/DESCRIPTION’ ... OK * preparing ‘Affyhgu133Plus2Expr’: * checking DESCRIPTION meta-information ... OK * checking for LF line-endings in source and make files and shell scripts * checking for empty or unneeded directories * looking to see if a ‘data/datalist’ file should be added * building ‘Affyhgu133Plus2Expr_1.14.0.tar.gz’