| Back to Multiple platform build/check report for BioC 3.7 experimental data | 
This page was generated on 2018-10-16 14:17:48 -0400 (Tue, 16 Oct 2018).
| Package 319/342 | Hostname | OS / Arch | INSTALL | BUILD | CHECK | BUILD BIN | ||||||
| TCGAMethylation450k 1.16.0 Sean Davis 
 | malbec2 | Linux (Ubuntu 16.04.1 LTS) / x86_64 | OK | [ OK ] | OK |  | 
| Package: TCGAMethylation450k | 
| Version: 1.16.0 | 
| Command: /home/biocbuild/bbs-3.7-bioc/R/bin/R CMD build --keep-empty-dirs --no-resave-data TCGAMethylation450k | 
| StartedAt: 2018-10-16 09:26:18 -0400 (Tue, 16 Oct 2018) | 
| EndedAt: 2018-10-16 09:26:40 -0400 (Tue, 16 Oct 2018) | 
| EllapsedTime: 21.7 seconds | 
| RetCode: 0 | 
| Status: OK | 
| PackageFile: TCGAMethylation450k_1.16.0.tar.gz | 
| PackageFileSize: 81.02 MiB | 
############################################################################## ############################################################################## ### ### Running command: ### ### /home/biocbuild/bbs-3.7-bioc/R/bin/R CMD build --keep-empty-dirs --no-resave-data TCGAMethylation450k ### ############################################################################## ############################################################################## * checking for file ‘TCGAMethylation450k/DESCRIPTION’ ... OK * preparing ‘TCGAMethylation450k’: * checking DESCRIPTION meta-information ... OK * checking for LF line-endings in source and make files and shell scripts * checking for empty or unneeded directories * building ‘TCGAMethylation450k_1.16.0.tar.gz’