| Back to Multiple platform build/check report for BioC 3.7 experimental data | 
This page was generated on 2018-10-16 14:16:48 -0400 (Tue, 16 Oct 2018).
| Package 153/342 | Hostname | OS / Arch | INSTALL | BUILD | CHECK | BUILD BIN | ||||||
| hgu2beta7 1.20.0 Bioconductor Package Maintainer 
 | malbec2 | Linux (Ubuntu 16.04.1 LTS) / x86_64 | OK | [ OK ] | WARNINGS |  | 
| Package: hgu2beta7 | 
| Version: 1.20.0 | 
| Command: /home/biocbuild/bbs-3.7-bioc/R/bin/R CMD build --keep-empty-dirs --no-resave-data hgu2beta7 | 
| StartedAt: 2018-10-16 09:20:40 -0400 (Tue, 16 Oct 2018) | 
| EndedAt: 2018-10-16 09:20:45 -0400 (Tue, 16 Oct 2018) | 
| EllapsedTime: 4.0 seconds | 
| RetCode: 0 | 
| Status: OK | 
| PackageFile: hgu2beta7_1.20.0.tar.gz | 
| PackageFileSize: 6.409 MiB | 
############################################################################## ############################################################################## ### ### Running command: ### ### /home/biocbuild/bbs-3.7-bioc/R/bin/R CMD build --keep-empty-dirs --no-resave-data hgu2beta7 ### ############################################################################## ############################################################################## * checking for file ‘hgu2beta7/DESCRIPTION’ ... OK * preparing ‘hgu2beta7’: * checking DESCRIPTION meta-information ... OK * checking for LF line-endings in source and make files and shell scripts * checking for empty or unneeded directories * looking to see if a ‘data/datalist’ file should be added * building ‘hgu2beta7_1.20.0.tar.gz’