| Back to Multiple platform build/check report for BioC 3.7 experimental data |
This page was generated on 2018-10-16 14:19:22 -0400 (Tue, 16 Oct 2018).
| Package 247/342 | Hostname | OS / Arch | INSTALL | BUILD | CHECK | BUILD BIN | ||||||
| prostateCancerCamcap 1.8.0 Mark Dunning
| malbec2 | Linux (Ubuntu 16.04.1 LTS) / x86_64 | OK | OK | [ OK ] |
| Package: prostateCancerCamcap |
| Version: 1.8.0 |
| Command: /home/biocbuild/bbs-3.7-bioc/R/bin/R CMD check --install=check:prostateCancerCamcap.install-out.txt --library=/home/biocbuild/bbs-3.7-bioc/R/library --no-vignettes --timings prostateCancerCamcap_1.8.0.tar.gz |
| StartedAt: 2018-10-16 11:17:57 -0400 (Tue, 16 Oct 2018) |
| EndedAt: 2018-10-16 11:18:43 -0400 (Tue, 16 Oct 2018) |
| EllapsedTime: 45.5 seconds |
| RetCode: 0 |
| Status: OK |
| CheckDir: prostateCancerCamcap.Rcheck |
| Warnings: 0 |
##############################################################################
##############################################################################
###
### Running command:
###
### /home/biocbuild/bbs-3.7-bioc/R/bin/R CMD check --install=check:prostateCancerCamcap.install-out.txt --library=/home/biocbuild/bbs-3.7-bioc/R/library --no-vignettes --timings prostateCancerCamcap_1.8.0.tar.gz
###
##############################################################################
##############################################################################
* using log directory ‘/home/biocbuild/bbs-3.7-data-experiment/meat/prostateCancerCamcap.Rcheck’
* using R version 3.5.1 Patched (2018-07-12 r74967)
* using platform: x86_64-pc-linux-gnu (64-bit)
* using session charset: UTF-8
* using option ‘--no-vignettes’
* checking for file ‘prostateCancerCamcap/DESCRIPTION’ ... OK
* checking extension type ... Package
* this is package ‘prostateCancerCamcap’ version ‘1.8.0’
* checking package namespace information ... OK
* checking package dependencies ... OK
* checking if this is a source package ... OK
* checking if there is a namespace ... OK
* checking for hidden files and directories ... OK
* checking for portable file names ... OK
* checking for sufficient/correct file permissions ... OK
* checking whether package ‘prostateCancerCamcap’ can be installed ... OK
* checking installed package size ... NOTE
installed size is 76.6Mb
sub-directories of 1Mb or more:
data 76.5Mb
* checking package directory ... OK
* checking ‘build’ directory ... OK
* checking DESCRIPTION meta-information ... OK
* checking top-level files ... OK
* checking for left-over files ... OK
* checking index information ... OK
* checking package subdirectories ... OK
* checking whether the package can be loaded ... OK
* checking whether the package can be loaded with stated dependencies ... OK
* checking whether the package can be unloaded cleanly ... OK
* checking whether the namespace can be loaded with stated dependencies ... OK
* checking whether the namespace can be unloaded cleanly ... OK
* checking Rd files ... OK
* checking Rd metadata ... OK
* checking Rd cross-references ... OK
* checking for missing documentation entries ... OK
* checking for code/documentation mismatches ... OK
* checking Rd \usage sections ... OK
* checking Rd contents ... OK
* checking for unstated dependencies in examples ... OK
* checking contents of ‘data’ directory ... OK
* checking data for non-ASCII characters ... OK
* checking data for ASCII and uncompressed saves ... OK
* checking files in ‘vignettes’ ... OK
* checking examples ... NONE
* checking for unstated dependencies in vignettes ... OK
* checking package vignettes in ‘inst/doc’ ... OK
* checking running R code from vignettes ... SKIPPED
* checking re-building of vignette outputs ... SKIPPED
* checking PDF version of manual ... OK
* DONE
Status: 1 NOTE
See
‘/home/biocbuild/bbs-3.7-data-experiment/meat/prostateCancerCamcap.Rcheck/00check.log’
for details.
prostateCancerCamcap.Rcheck/00install.out
############################################################################## ############################################################################## ### ### Running command: ### ### /home/biocbuild/bbs-3.7-bioc/R/bin/R CMD INSTALL prostateCancerCamcap ### ############################################################################## ############################################################################## * installing to library ‘/home/biocbuild/bbs-3.7-bioc/R/library’ * installing *source* package ‘prostateCancerCamcap’ ... ** data *** moving datasets to lazyload DB ** help *** installing help indices ** building package indices ** installing vignettes ** testing if installed package can be loaded * DONE (prostateCancerCamcap)