Welcome to mirrors.dotsrc.org

All our mirrors of open source software are available via http, https, ftp and an onion service. More information about our mirrors including statistics and contact information is available on our mirror info pages.

For information about dotsrc.org and our other services please go to our website.

Index of /bioconductor/checkResults/devel/bioc-LATEST/

File Name  ↓ File Size  ↓ Date  ↓ 
--
-2025-11-26 16:39:32
-2025-11-26 16:39:31
-2025-11-26 16:39:32
-2025-11-26 16:39:32
-2025-11-26 16:39:32
-2025-11-26 16:39:32
-2025-11-26 16:39:32
-2025-11-26 16:39:32
-2025-11-26 16:39:32
-2025-11-26 16:39:32
-2025-11-26 16:39:32
-2025-11-26 16:39:32
-2025-11-26 16:39:32
-2025-11-26 16:39:33
-2025-11-26 16:39:33
-2025-11-26 16:39:33
-2025-11-26 16:39:33
-2025-11-26 16:39:33
-2025-11-26 16:39:33
-2025-11-26 16:39:33
-2025-11-26 16:39:33
-2025-11-26 16:39:33
-2025-11-26 16:39:33
-2025-11-26 16:39:34
-2025-11-26 16:39:34
-2025-11-26 16:39:34
-2025-11-26 16:39:34
-2025-11-26 16:39:34
-2025-11-26 16:39:34
-2025-11-26 16:39:34
-2025-11-26 16:39:34
-2025-11-26 16:39:34
-2025-11-26 16:39:34
-2025-11-26 16:39:32
-2025-11-26 16:39:32
-2025-11-26 16:39:32
-2025-11-26 16:39:32
-2025-11-26 16:39:32
-2025-11-26 16:39:33
-2025-11-26 16:39:33
-2025-11-26 16:39:33
-2025-11-26 16:39:33
-2025-11-26 16:39:33
-2025-11-26 16:39:33
-2025-11-26 16:39:33
-2025-11-26 16:39:33
-2025-11-26 16:39:33
-2025-11-26 16:39:33
-2025-11-26 16:39:33
-2025-11-26 16:39:33
-2025-11-26 16:39:33
-2025-11-26 16:39:33
-2025-11-26 16:39:33
-2025-11-26 16:39:33
-2025-11-26 16:39:34
-2025-11-26 16:39:34
-2025-11-26 16:39:34
-2025-11-26 16:39:34
-2025-11-26 16:39:34
-2025-11-26 16:39:34
-2025-11-26 16:39:35
-2025-11-26 16:39:35
-2025-11-26 16:39:35
-2025-11-26 16:39:35
-2025-11-26 16:39:35
-2025-11-26 16:39:35
-2025-11-26 16:39:36
-2025-11-26 16:39:36
-2025-11-26 16:39:36
-2025-11-26 16:39:36
-2025-11-26 16:39:36
-2025-11-26 16:39:36
-2025-11-26 16:39:37
-2025-11-26 16:39:37
-2025-11-26 16:39:37
-2025-11-26 16:39:37
-2025-11-26 16:39:37
-2025-11-26 16:39:37
-2025-11-26 16:39:34
-2025-11-26 16:39:34
-2025-11-26 16:39:34
-2025-11-26 16:39:34
-2025-11-26 16:39:34
-2025-11-26 16:39:34
-2025-11-26 16:39:34
-2025-11-26 16:39:34
-2025-11-26 16:39:34
-2025-11-26 16:39:34
-2025-11-26 16:39:35
-2025-11-26 16:39:35
-2025-11-26 16:39:35
-2025-11-26 16:39:35
-2025-10-23 15:30:18
-2025-11-26 16:39:36
-2025-11-26 16:39:36
-2025-11-26 16:39:35
-2025-11-26 16:39:35
-2025-11-26 16:39:35
-2025-11-26 16:39:35
-2025-11-26 16:39:36
-2025-11-26 16:39:36
-2025-11-26 16:39:36
-2025-11-26 16:39:36
-2025-11-26 16:39:36
-2025-11-26 16:39:36
-2025-11-26 16:39:36
-2025-11-26 16:39:35
-2025-11-26 16:39:35
-2025-11-26 16:39:35
-2025-11-26 16:39:35
-2025-11-26 16:39:35
-2025-11-26 16:39:35
-2025-11-26 16:39:35
-2025-11-26 16:39:35
-2025-11-26 16:37:53
-2025-11-26 16:39:35
-2025-11-26 16:39:35
-2025-11-26 16:39:35
-2025-11-26 16:39:35
-2025-11-26 16:39:35
-2025-11-26 16:39:35
-2025-11-26 16:39:35
-2025-11-26 16:39:35
-2025-11-26 16:39:35
-2025-11-26 16:39:35
-2025-11-26 16:39:36
-2025-11-26 16:39:36
-2025-11-26 16:39:36
-2025-11-26 16:39:36
-2025-11-26 16:39:36
-2025-11-26 16:39:36
-2025-11-26 16:39:37
-2025-11-26 16:39:37
-2025-11-26 16:39:37
-2025-11-26 16:39:37
-2025-11-26 16:39:37
-2025-11-26 16:39:37
-2025-11-26 16:39:37
-2025-11-26 16:39:37
-2025-11-26 16:39:37
-2025-11-26 16:39:37
-2025-11-26 16:39:37
-2025-11-26 16:39:37
-2025-11-26 16:39:37
-2025-11-26 16:39:37
-2025-11-26 16:39:37
-2025-11-26 16:39:37
-2025-11-26 16:39:37
-2025-11-26 16:39:37
-2025-11-26 16:39:37
-2025-11-26 16:39:38
-2025-11-26 16:39:38
-2025-11-26 16:39:38
-2025-11-26 16:39:38
-2025-11-26 16:39:38
-2025-11-26 16:39:38
-2025-11-26 16:39:38
-2025-11-26 16:39:38
-2025-11-26 16:39:39
-2025-11-26 16:39:39
-2025-10-23 15:30:19
-2025-11-26 16:39:39
-2025-11-26 16:39:39
-2025-11-26 16:39:39
-2025-11-26 16:39:39
-2025-11-26 16:39:39
-2025-11-26 16:39:39
-2025-11-26 16:39:39
-2025-11-26 16:39:39
-2025-11-26 16:39:40
-2025-11-26 16:39:40
-2025-11-26 16:39:40
-2025-11-26 16:39:40
-2025-11-26 16:39:40
-2025-11-26 16:39:40
-2025-11-26 16:39:40
-2025-11-26 16:39:40
-2025-11-26 16:39:40
-2025-11-26 16:39:40
-2025-11-26 16:39:40
-2025-11-26 16:39:41
-2025-11-26 16:39:41
-2025-11-26 16:39:41
-2025-11-26 16:39:41
-2025-11-26 16:39:41
-2025-11-26 16:39:41
-2025-11-26 16:39:41
-2025-11-26 16:39:41
-2025-11-26 16:39:41
-2025-11-26 16:39:41
-2025-11-26 16:39:41
-2025-11-26 16:39:41
-2025-11-26 16:39:41
-2025-11-26 16:39:37
-2025-11-26 16:39:37
-2025-11-26 16:39:37
-2025-11-26 16:39:37
-2025-11-26 16:39:37
-2025-11-26 16:39:37
-2025-11-26 16:39:37
-2025-11-26 16:39:37
-2025-11-26 16:39:38
-2025-11-26 16:39:38
-2025-11-26 16:39:38
-2025-11-26 16:39:38
-2025-11-26 16:39:38
-2025-11-26 16:39:38
-2025-10-23 15:30:19
-2025-11-26 16:39:38
-2025-11-26 16:39:38
-2025-11-26 16:39:38
-2025-11-26 16:39:38
-2025-11-26 16:39:38
-2025-11-26 16:39:38
-2025-11-26 16:39:38
-2025-11-26 16:39:38
-2025-11-26 16:39:38
-2025-11-26 16:39:38
-2025-11-26 16:39:38
-2025-11-26 16:39:38
-2025-11-26 16:39:38
-2025-11-26 16:39:38
-2025-11-26 16:39:38
-2025-11-26 16:39:38
-2025-11-26 16:39:38
-2025-11-26 16:39:39
-2025-11-26 16:39:39
-2025-11-26 16:39:39
-2025-11-26 16:39:39
-2025-11-26 16:39:39
-2025-11-26 16:39:39
-2025-11-26 16:39:39
-2025-11-26 16:39:39
-2025-11-26 16:39:39
-2025-11-26 16:39:39
-2025-11-26 16:39:39
-2025-11-26 16:39:39
-2025-11-26 16:39:39
-2025-11-26 16:39:39
-2025-11-26 16:39:39
-2025-11-26 16:39:40
-2025-11-26 16:39:40
-2025-11-26 16:39:41
-2025-11-26 16:39:40
-2025-11-26 16:39:40
-2025-11-26 16:39:40
-2025-11-26 16:39:40
-2025-11-26 16:39:40
-2025-11-26 16:39:40
-2025-11-26 16:39:40
-2025-11-26 16:39:40
-2025-11-26 16:39:40
-2025-11-26 16:39:41
-2025-11-26 16:39:41
-2025-11-26 16:39:41
-2025-11-26 16:39:42
-2025-11-26 16:39:42
-2025-11-26 16:39:42
-2025-11-26 16:39:42
-2025-11-26 16:39:42
-2025-11-26 16:39:42
-2025-11-26 16:39:42
-2025-11-26 16:39:42
-2025-11-26 16:39:42
-2025-11-26 16:39:42
-2025-11-26 16:39:42
-2025-11-26 16:39:42
-2025-11-26 16:39:42
-2025-11-26 16:37:59
-2025-11-26 16:39:42
-2025-11-26 16:39:42
-2025-11-26 16:39:43
-2025-10-23 15:30:20
-2025-11-26 16:39:43
-2025-11-26 16:39:43
-2025-11-26 16:39:43
-2025-11-26 16:39:43
-2025-11-26 16:39:43
-2025-11-26 16:39:43
-2025-11-26 16:39:43
-2025-11-26 16:39:43
-2025-11-26 16:39:43
-2025-11-26 16:39:43
-2025-11-26 16:39:43
-2025-11-26 16:39:44
-2025-11-26 16:39:44
-2025-11-26 16:39:44
-2025-11-26 16:39:44
-2025-11-26 16:39:44
-2025-11-26 16:39:44
-2025-11-26 16:39:44
-2025-11-26 16:39:44
-2025-11-26 16:39:44
-2025-11-26 16:39:44
-2025-11-26 16:39:44
-2025-11-26 16:39:44
-2025-11-26 16:39:44
-2025-11-26 16:39:44
-2025-11-26 16:39:44
-2025-11-26 16:39:44
-2025-11-26 16:39:44
-2025-11-26 16:39:42
-2025-11-26 16:39:42
-2025-11-26 16:39:43
-2025-11-26 16:39:43
-2025-11-26 16:39:42
-2025-11-26 16:39:42
-2025-11-26 16:39:42
-2025-11-26 16:39:42
-2025-11-26 16:39:42
-2025-11-26 16:39:42
-2025-11-26 16:39:42
-2025-11-26 16:39:42
-2025-11-26 16:39:43
-2025-11-26 16:39:43
-2025-11-26 16:39:43
-2025-11-26 16:39:43
-2025-11-26 16:39:43
-2025-11-26 16:39:43
-2025-11-26 16:39:43
-2025-11-26 16:39:43
-2025-11-26 16:39:43
-2025-11-26 16:39:43
-2025-11-26 16:39:43
-2025-11-26 16:39:43
-2025-11-26 16:39:44
-2025-11-26 16:39:44
-2025-11-26 16:39:44
-2025-11-26 16:39:44
-2025-11-26 16:39:44
-2025-11-26 16:39:44
-2025-11-26 16:39:44
-2025-11-26 16:39:44
-2025-11-26 16:39:44
-2025-11-26 16:39:45
-2025-11-26 16:39:45
-2025-11-26 16:39:45
-2025-11-26 16:39:45
-2025-11-26 16:39:45
-2025-11-26 16:39:45
-2025-11-26 16:39:45
-2025-11-26 16:39:45
-2025-11-26 16:39:45
-2025-11-26 16:39:45
-2025-11-26 16:39:45
-2025-11-26 16:39:45
-2025-11-26 16:39:45
-2025-11-26 16:39:46
-2025-11-26 16:39:46
-2025-11-26 16:39:44
-2025-11-26 16:39:45
-2025-11-26 16:39:45
-2025-11-26 16:39:45
-2025-11-26 16:39:45
-2025-11-26 16:39:45
-2025-11-26 16:39:45
-2025-11-26 16:39:45
-2025-11-26 16:39:45
-2025-11-26 16:39:45
-2025-11-26 16:39:46
-2025-11-26 16:39:45
-2025-11-26 16:39:46
-2025-11-26 16:39:46
-2025-11-26 16:39:46
-2025-11-26 16:39:46
-2025-11-26 16:39:46
-2025-11-26 16:39:46
-2025-11-26 16:39:46
-2025-11-26 16:39:46
-2025-11-26 16:39:46
-2025-11-26 16:39:46
-2025-11-26 16:39:46
-2025-11-26 16:39:47
-2025-11-26 16:39:47
-2025-11-26 16:39:47
-2025-11-26 16:39:47
-2025-11-26 16:39:46
-2025-11-26 16:39:46
-2025-11-26 16:39:46
-2025-11-26 16:39:47
-2025-11-26 16:39:47
-2025-11-26 16:39:47
-2025-11-26 16:39:47
-2025-11-26 16:39:47
-2025-11-26 16:39:48
-2025-11-26 16:39:48
-2025-11-26 16:39:48
-2025-11-26 16:39:48
-2025-11-26 16:39:48
-2025-11-26 16:39:48
-2025-11-26 16:39:48
-2025-11-26 16:39:48
-2025-11-26 16:39:48
-2025-11-26 16:39:48
-2025-11-26 16:39:48
-2025-11-26 16:39:49
-2025-11-26 16:39:49
-2025-11-26 16:39:49
-2025-11-26 16:39:49
-2025-11-26 16:39:49
-2025-11-26 16:39:49
-2025-11-26 16:39:49
-2025-11-26 16:39:50
-2025-11-26 16:39:50
-2025-11-26 16:39:50
-2025-11-26 16:39:50
-2025-11-26 16:39:50
-2025-11-26 16:39:50
-2025-11-26 16:39:50
-2025-11-26 16:39:50
-2025-11-26 16:39:50
-2025-11-26 16:39:50
-2025-11-26 16:39:50
-2025-11-26 16:39:50
-2025-11-26 16:39:50
-2025-11-26 16:39:51
-2025-11-26 16:39:51
-2025-11-26 16:39:51
-2025-11-26 16:39:51
-2025-11-26 16:39:51
-2025-11-26 16:39:51
-2025-11-26 16:39:51
-2025-11-26 16:39:51
-2025-11-26 16:39:51
-2025-11-26 16:39:51
-2025-11-26 16:39:51
-2025-11-26 16:39:51
-2025-11-26 16:39:51
-2025-11-26 16:39:51
-2025-11-26 16:39:51
-2025-11-26 16:39:51
-2025-11-26 16:39:51
-2025-11-26 16:39:51
-2025-11-26 16:39:51
-2025-11-26 16:39:48
-2025-11-26 16:39:48
-2025-11-26 16:39:49
-2025-11-26 16:39:49
-2025-11-26 16:39:48
-2025-11-26 16:39:48
-2025-11-26 16:39:48
-2025-11-26 16:39:48
-2025-11-26 16:39:48
-2025-11-26 16:39:48
-2025-11-26 16:39:49
-2025-11-26 16:39:49
-2025-11-26 16:39:49
-2025-11-26 16:39:49
-2025-11-26 16:39:49
-2025-11-26 16:39:49
-2025-11-26 16:39:49
-2025-11-26 16:39:49
-2025-11-26 16:39:49
-2025-11-26 16:39:49
-2025-11-26 16:39:49
-2025-11-26 16:39:49
-2025-11-26 16:39:49
-2025-11-26 16:39:49
-2025-11-26 16:39:49
-2025-11-26 16:39:49
-2025-11-26 16:39:49
-2025-11-26 16:39:49
-2025-11-26 16:39:49
-2025-11-26 16:39:49
-2025-11-26 16:39:49
-2025-11-26 16:39:49
-2025-11-26 16:39:49
-2025-11-26 16:39:50
-2025-11-26 16:39:50
-2025-11-26 16:39:50
-2025-11-26 16:39:50
-2025-11-26 16:39:50
-2025-11-26 16:39:51
-2025-11-26 16:39:51
-2025-11-26 16:39:51
-2025-11-26 16:39:51
-2025-11-26 16:39:51
-2025-11-26 16:39:51
-2025-11-26 16:39:52
-2025-11-26 16:39:52
-2025-11-26 16:39:52
-2025-11-26 16:39:52
-2025-11-26 16:39:52
-2025-11-26 16:39:52
-2025-11-26 16:39:52
-2025-11-26 16:39:52
-2025-11-26 16:39:52
-2025-11-26 16:39:52
-2025-11-26 16:39:52
-2025-11-26 16:39:52
-2025-11-26 16:39:52
-2025-11-26 16:39:52
-2025-11-26 16:39:53
-2025-11-26 16:39:51
-2025-11-26 16:39:51
-2025-10-23 15:30:22
-2025-11-26 16:39:52
-2025-11-26 16:39:52
-2025-11-26 16:39:52
-2025-11-26 16:39:52
-2025-11-26 16:39:52
-2025-11-26 16:39:52
-2025-11-26 16:39:52
-2025-11-26 16:39:52
-2025-11-26 16:39:52
-2025-11-26 16:39:52
-2025-11-26 16:39:52
-2025-11-26 16:39:52
-2025-11-26 16:39:52
-2025-11-26 16:39:52
-2025-11-26 16:39:52
-2025-11-26 16:39:52
-2025-11-26 16:39:52
-2025-11-26 16:39:52
-2025-11-26 16:38:07
-2025-11-26 16:39:52
-2025-11-26 16:39:52
-2025-11-26 16:39:53
-2025-11-26 16:39:53
-2025-11-26 16:39:53
-2025-11-26 16:39:53
-2025-11-26 16:39:53
-2025-11-26 16:39:53
-2025-11-26 16:39:53
-2025-11-26 16:39:53
-2025-11-26 16:39:54
-2025-11-26 16:39:54
-2025-11-26 16:39:54
-2025-11-26 16:39:54
-2025-11-26 16:39:54
-2025-11-26 16:39:54
-2025-11-26 16:39:54
-2025-11-26 16:39:54
-2025-11-26 16:39:54
-2025-11-26 16:39:54
-2025-11-26 16:39:55
-2025-11-26 16:39:55
-2025-11-26 16:39:55
-2025-11-26 16:39:55
-2025-11-26 16:39:53
-2025-11-26 16:39:53
-2025-11-26 16:39:53
-2025-11-26 16:39:53
-2025-11-26 16:39:54
-2025-11-26 16:39:54
-2025-11-26 16:39:54
-2025-11-26 16:39:54
-2025-11-26 16:39:54
-2025-11-26 16:39:54
-2025-11-26 16:39:54
-2025-11-26 16:39:54
-2025-11-26 16:39:55
-2025-11-26 16:39:55
-2025-11-26 16:39:55
-2025-11-26 16:39:55
-2025-11-26 16:39:55
-2025-11-26 16:39:55
-2025-11-26 16:39:55
-2025-11-26 16:39:55
-2025-11-26 16:39:55
-2025-11-26 16:39:55
-2025-11-26 16:39:55
-2025-11-26 16:39:55
-2025-11-26 16:39:55
-2025-11-26 16:39:55
-2025-11-26 16:39:55
-2025-11-26 16:39:56
-2025-11-26 16:39:56
-2025-11-26 16:39:56
-2025-11-26 16:39:56
-2025-11-26 16:39:56
-2025-11-26 16:39:55
-2025-11-26 16:39:55
-2025-11-26 16:39:56
-2025-10-23 15:30:23
-2025-11-26 16:39:56
-2025-11-26 16:39:56
-2025-11-26 16:39:56
-2025-11-26 16:39:56
-2025-11-26 16:39:56
-2025-11-26 16:39:56
-2025-11-26 16:39:56
-2025-11-26 16:39:56
-2025-11-26 16:39:56
-2025-11-26 16:39:56
-2025-10-23 15:30:23
-2025-11-26 16:39:56
-2025-11-26 16:39:57
-2025-11-26 16:39:57
-2025-11-26 16:39:57
-2025-11-26 16:39:57
-2025-11-26 16:39:57
-2025-11-26 16:39:57
-2025-11-26 16:39:57
-2025-11-26 16:39:57
-2025-11-26 16:39:57
-2025-11-26 16:39:57
-2025-11-26 16:39:57
-2025-11-26 16:39:57
-2025-11-26 16:39:57
-2025-11-26 16:39:57
-2025-11-26 16:39:57
-2025-11-26 16:39:58
-2025-11-26 16:39:58
-2025-11-26 16:39:58
-2025-11-26 16:39:58
-2025-11-26 16:39:59
-2025-11-26 16:39:59
-2025-11-26 16:39:59
-2025-11-26 16:39:59
-2025-11-26 16:40:00
-2025-11-26 16:40:00
-2025-11-26 16:40:00
-2025-11-26 16:40:00
-2025-11-26 16:40:00
-2025-11-26 16:40:00
-2025-11-26 16:40:00
-2025-11-26 16:40:00
-2025-11-26 16:40:00
-2025-11-26 16:40:01
-2025-11-26 16:40:01
-2025-11-26 16:40:01
-2025-11-26 16:40:01
-2025-11-26 16:40:01
-2025-11-26 16:40:01
-2025-11-26 16:40:01
-2025-11-26 16:40:01
-2025-11-26 16:40:02
-2025-11-26 16:40:02
-2025-11-26 16:40:02
-2025-11-26 16:40:02
-2025-11-26 16:40:02
-2025-11-26 16:40:02
-2025-11-26 16:40:02
-2025-11-26 16:40:02
-2025-11-26 16:40:02
-2025-11-26 16:40:02
-2025-11-26 16:40:02
-2025-11-26 16:40:02
-2025-11-26 16:40:02
-2025-11-26 16:40:02
-2025-11-26 16:40:02
-2025-11-26 16:40:03
-2025-11-26 16:40:03
-2025-11-26 16:39:56
-2025-11-26 16:39:56
-2025-11-26 16:39:57
-2025-11-26 16:39:57
-2025-11-26 16:39:57
-2025-11-26 16:39:57
-2025-11-26 16:39:57
-2025-11-26 16:39:57
-2025-11-26 16:39:58
-2025-11-26 16:39:57
-2025-11-26 16:39:58
-2025-11-26 16:39:58
-2025-11-26 16:39:58
-2025-11-26 16:39:58
-2025-11-26 16:39:59
-2025-11-26 16:39:59
-2025-11-26 16:39:59
-2025-11-26 16:39:58
-2025-11-26 16:39:58
-2025-11-26 16:39:58
-2025-11-26 16:39:58
-2025-11-26 16:39:58
-2025-11-26 16:39:58
-2025-11-26 16:39:58
-2025-11-26 16:39:58
-2025-11-26 16:39:58
-2025-11-26 16:39:58
-2025-11-26 16:39:59
-2025-11-26 16:39:59
-2025-11-26 16:39:59
-2025-11-26 16:39:59
-2025-11-26 16:39:59
-2025-11-26 16:39:59
-2025-11-26 16:40:00
-2025-11-26 16:40:00
-2025-11-26 16:39:59
-2025-11-26 16:39:59
-2025-11-26 16:40:00
-2025-11-26 16:40:00
-2025-11-26 16:40:00
-2025-11-26 16:40:00
-2025-11-26 16:40:01
-2025-11-26 16:40:01
-2025-11-26 16:40:01
-2025-11-26 16:40:01
-2025-11-26 16:40:01
-2025-11-26 16:40:01
-2025-11-26 16:40:01
-2025-11-26 16:40:01
-2025-11-26 16:40:01
-2025-11-26 16:40:01
-2025-11-26 16:40:01
-2025-11-26 16:40:01
-2025-11-26 16:40:01
-2025-11-26 16:40:01
-2025-11-26 16:40:01
-2025-11-26 16:40:01
-2025-11-26 16:40:01
-2025-11-26 16:40:02
-2025-11-26 16:40:02
-2025-11-26 16:40:02
-2025-11-26 16:40:02
-2025-11-26 16:40:02
-2025-11-26 16:40:02
-2025-11-26 16:40:02
-2025-11-26 16:40:02
-2025-11-26 16:40:02
-2025-11-26 16:40:03
-2025-11-26 16:40:03
-2025-11-26 16:40:03
-2025-11-26 16:40:03
-2025-11-26 16:38:16
-2025-11-26 16:40:04
-2025-11-26 16:40:04
-2025-11-26 16:40:04
-2025-11-26 16:40:03
-2025-11-26 16:40:03
-2025-11-26 16:40:03
-2025-11-26 16:40:03
-2025-11-26 16:40:03
-2025-11-26 16:40:03
-2025-11-26 16:40:03
-2025-11-26 16:40:03
-2025-11-26 16:40:03
-2025-11-26 16:40:04
-2025-11-26 16:40:04
-2025-11-26 16:40:04
-2025-11-26 16:40:04
-2025-11-26 16:40:04
-2025-11-26 16:40:04
-2025-11-26 16:40:04
-2025-11-26 16:40:04
-2025-11-26 16:40:04
-2025-11-26 16:40:05
-2025-11-26 16:40:05
-2025-11-26 16:40:05
-2025-11-26 16:40:05
-2025-11-26 16:40:05
-2025-11-26 16:40:05
-2025-11-26 16:40:05
-2025-11-26 16:40:05
-2025-11-26 16:40:04
-2025-11-26 16:40:04
-2025-11-26 16:40:04
-2025-11-26 16:40:05
-2025-11-26 16:40:05
-2025-11-26 16:40:05
-2025-11-26 16:39:10
-2025-11-26 16:40:05
-2025-11-26 16:40:05
-2025-11-26 16:40:05
-2025-11-26 16:40:05
-2025-11-26 16:40:05
-2025-11-26 16:40:05
-2025-11-26 16:40:05
-2025-11-26 16:40:05
-2025-11-26 16:40:05
-2025-11-26 16:40:06
-2025-11-26 16:40:06
-2025-11-26 16:40:06
-2025-11-26 16:40:06
-2025-11-26 16:40:06
-2025-11-26 16:40:06
-2025-11-26 16:40:07
-2025-11-26 16:40:07
-2025-11-26 16:40:07
-2025-11-26 16:40:07
-2025-11-26 16:40:07
-2025-11-26 16:40:07
-2025-11-26 16:40:08
-2025-11-26 16:40:08
-2025-11-26 16:40:08
-2025-11-26 16:40:08
-2025-11-26 16:40:08
-2025-11-26 16:40:08
-2025-11-26 16:40:08
-2025-11-26 16:40:08
-2025-11-26 16:40:08
-2025-11-26 16:40:08
-2025-11-26 16:40:09
-2025-11-26 16:40:06
-2025-11-26 16:40:06
-2025-11-26 16:40:06
-2025-11-26 16:40:06
-2025-11-26 16:40:06
-2025-11-26 16:40:06
-2025-11-26 16:40:06
-2025-11-26 16:40:06
-2025-11-26 16:40:07
-2025-11-26 16:40:07
-2025-10-23 15:30:25
-2025-11-26 16:40:07
-2025-11-26 16:40:07
-2025-11-26 16:40:07
-2025-11-26 16:40:07
-2025-11-26 16:40:07
-2025-11-26 16:40:07
-2025-11-26 16:40:08
-2025-11-26 16:40:08
-2025-11-26 16:40:08
-2025-11-26 16:40:08
-2025-11-26 16:40:08
-2025-11-26 16:40:08
-2025-11-26 16:40:08
-2025-11-26 16:40:09
-2025-11-26 16:40:09
-2025-11-26 16:40:09
-2025-11-26 16:40:09
-2025-11-26 16:40:09
-2025-11-26 16:40:09
-2025-11-26 16:40:09
-2025-11-26 16:40:09
-2025-11-26 16:40:09
-2025-11-26 16:40:09
-2025-11-26 16:40:09
-2025-11-26 16:38:21
-2025-11-26 16:40:09
-2025-11-26 16:40:09
-2025-11-26 16:40:09
-2025-11-26 16:40:10
-2025-11-26 16:40:10
-2025-11-26 16:40:10
-2025-11-26 16:40:10
-2025-11-26 16:40:10
-2025-11-26 16:40:10
-2025-11-26 16:40:10
-2025-11-26 16:40:10
-2025-11-26 16:40:10
-2025-11-26 16:40:10
-2025-11-26 16:40:10
-2025-11-26 16:40:10
-2025-11-26 16:40:10
-2025-11-26 16:40:11
-2025-11-26 16:40:11
-2025-11-26 16:40:11
-2025-11-26 16:40:11
-2025-11-26 16:40:11
-2025-11-26 16:40:11
-2025-11-26 16:40:12
-2025-11-26 16:40:12
-2025-11-26 16:40:12
-2025-11-26 16:40:12
-2025-11-26 16:40:12
-2025-11-26 16:40:12
-2025-11-26 16:40:12
-2025-11-26 16:40:12
-2025-11-26 16:40:12
-2025-11-26 16:40:12
-2025-11-26 16:40:12
-2025-11-26 16:40:12
-2025-11-26 16:40:12
-2025-11-26 16:40:12
-2025-11-26 16:40:12
-2025-11-26 16:40:12
-2025-11-26 16:40:13
-2025-11-26 16:40:13
-2025-11-26 16:40:13
-2025-11-26 16:40:13
-2025-11-26 16:40:13
-2025-11-26 16:40:13
-2025-11-26 16:40:13
-2025-11-26 16:40:13
-2025-11-26 16:40:13
-2025-11-26 16:40:13
-2025-11-26 16:40:13
-2025-11-26 16:40:13
-2025-11-26 16:40:13
-2025-11-26 16:40:13
-2025-11-26 16:40:13
-2025-11-26 16:40:13
-2025-11-26 16:40:13
-2025-11-26 16:40:13
-2025-11-26 16:40:14
-2025-11-26 16:40:13
-2025-11-26 16:40:14
-2025-11-26 16:40:14
-2025-11-26 16:40:09
-2025-11-26 16:40:09
-2025-11-26 16:40:10
-2025-11-26 16:40:10
-2025-11-26 16:40:10
-2025-11-26 16:40:10
-2025-11-26 16:40:10
-2025-11-26 16:40:10
-2025-11-26 16:40:10
-2025-11-26 16:37:34
-2025-11-26 16:40:10
-2025-11-26 16:40:10
-2025-11-26 16:38:23
-2025-11-26 16:40:10
-2025-11-26 16:40:10
-2025-11-26 16:40:10
-2025-11-26 16:40:10
-2025-11-26 16:40:11
-2025-11-26 16:40:10
-2025-10-23 15:30:27
-2025-11-26 16:40:10
-2025-11-26 16:40:10
-2025-11-26 16:40:11
-2025-11-26 16:40:11
-2025-11-26 16:40:11
-2025-11-26 16:40:11
-2025-11-26 16:40:11
-2025-11-26 16:40:11
-2025-10-23 15:30:27
-2025-11-26 16:40:11
-2025-11-26 16:40:11
-2025-10-23 15:30:27
-2025-11-26 16:40:11
-2025-11-26 16:40:11
-2025-11-26 16:40:11
-2025-11-26 16:40:12
-2025-11-26 16:40:12
-2025-11-26 16:40:12
-2025-11-26 16:40:12
-2025-11-26 16:40:12
-2025-11-26 16:40:12
-2025-11-26 16:40:12
-2025-11-26 16:40:12
-2025-11-26 16:40:12
-2025-11-26 16:40:12
-2025-11-26 16:40:12
-2025-11-26 16:40:13
-2025-11-26 16:40:13
-2025-11-26 16:40:13
-2025-11-26 16:40:13
-2025-11-26 16:40:13
-2025-11-26 16:40:14
-2025-11-26 16:40:14
-2025-11-26 16:40:14
-2025-11-26 16:40:14
-2025-11-26 16:40:14
-2025-10-23 15:30:27
-2025-11-26 16:40:14
-2025-11-26 16:40:14
-2025-11-26 16:40:14
-2025-11-26 16:40:14
-2025-11-26 16:40:14
-2025-11-26 16:40:14
-2025-11-26 16:40:14
-2025-11-26 16:40:14
-2025-11-26 16:40:15
-2025-11-26 16:40:15
-2025-11-26 16:40:15
-2025-11-26 16:40:16
-2025-11-26 16:40:16
-2025-11-26 16:40:17
-2025-11-26 16:40:16
-2025-11-26 16:40:17
-2025-11-26 16:40:17
-2025-11-26 16:40:17
-2025-11-26 16:40:17
-2025-11-26 16:40:17
-2025-11-26 16:40:17
-2025-11-26 16:40:17
-2025-11-26 16:40:17
-2025-11-26 16:40:17
-2025-11-26 16:40:18
-2025-11-26 16:40:18
-2025-11-26 16:40:18
-2025-11-26 16:40:18
-2025-11-26 16:40:18
-2025-11-26 16:40:18
-2025-11-26 16:40:18
-2025-11-26 16:40:18
-2025-11-26 16:40:19
-2025-11-26 16:40:19
-2025-11-26 16:40:19
-2025-11-26 16:40:19
-2025-11-26 16:40:20
-2025-11-26 16:40:20
-2025-11-26 16:40:20
-2025-11-26 16:40:20
-2025-11-26 16:40:20
-2025-11-26 16:40:20
-2025-11-26 16:40:20
-2025-11-26 16:40:20
-2025-11-26 16:40:21
-2025-11-26 16:40:21
-2025-11-26 16:40:21
-2025-11-26 16:40:21
-2025-11-26 16:40:21
-2025-11-26 16:40:14
-2025-11-26 16:40:14
-2025-11-26 16:40:14
-2025-11-26 16:40:14
-2025-11-26 16:40:15
-2025-11-26 16:40:16
-2025-11-26 16:40:16
-2025-11-26 16:40:16
-2025-11-26 16:40:16
-2025-11-26 16:40:16
-2025-11-26 16:40:16
-2025-11-26 16:40:16
-2025-11-26 16:40:16
-2025-11-26 16:40:17
-2025-11-26 16:40:17
-2025-11-26 16:40:18
-2025-11-26 16:40:17
-2025-11-26 16:40:17
-2025-11-26 16:40:17
-2025-11-26 16:40:17
-2025-11-26 16:40:17
-2025-11-26 16:40:17
-2025-11-26 16:40:18
-2025-11-26 16:40:18
-2025-11-26 16:40:18
-2025-11-26 16:40:18
-2025-11-26 16:40:18
-2025-11-26 16:40:18
-2025-11-26 16:40:18
-2025-11-26 16:40:19
-2025-11-26 16:40:18
-2025-11-26 16:40:18
-2025-11-26 16:40:19
-2025-11-26 16:40:19
-2025-11-26 16:40:19
-2025-11-26 16:40:19
-2025-11-26 16:40:19
-2025-11-26 16:40:19
-2025-11-26 16:40:19
-2025-11-26 16:40:19
-2025-11-26 16:40:19
-2025-11-26 16:40:19
-2025-11-26 16:40:19
-2025-11-26 16:40:19
-2025-11-26 16:40:19
-2025-11-26 16:40:19
-2025-11-26 16:40:19
-2025-11-26 16:40:20
-2025-11-26 16:40:20
-2025-11-26 16:40:20
-2025-11-26 16:40:20
-2025-11-26 16:40:20
-2025-11-26 16:40:20
-2025-11-26 16:40:20
-2025-11-26 16:40:20
-2025-10-23 15:30:29
-2025-11-26 16:40:21
-2025-11-26 16:40:21
-2025-11-26 16:40:21
-2025-11-26 16:40:21
-2025-11-26 16:40:21
-2025-11-26 16:40:21
-2025-11-26 16:40:21
-2025-11-26 16:40:21
-2025-11-26 16:40:21
-2025-11-26 16:40:21
-2025-11-26 16:40:21
-2025-11-26 16:40:21
-2025-11-26 16:40:22
-2025-11-26 16:40:22
-2025-11-26 16:40:22
-2025-11-26 16:40:22
-2025-11-26 16:40:22
-2025-11-26 16:40:22
-2025-11-26 16:40:22
-2025-11-26 16:40:22
-2025-11-26 16:40:22
-2025-11-26 16:40:22
-2025-11-26 16:40:22
-2025-11-26 16:40:22
-2025-11-26 16:40:22
-2025-11-26 16:40:22
-2025-11-26 16:40:22
-2025-11-26 16:40:22
-2025-11-26 16:40:23
-2025-11-26 16:40:23
-2025-11-26 16:40:23
-2025-11-26 16:40:23
-2025-11-26 16:40:23
-2025-11-26 16:40:23
-2025-11-26 16:40:23
-2025-11-26 16:40:24
-2025-11-26 16:40:24
-2025-11-26 16:40:24
-2025-11-26 16:40:24
-2025-11-26 16:40:24
-2025-11-26 16:40:24
-2025-11-26 16:40:24
-2025-11-26 16:40:22
-2025-11-26 16:40:22
-2025-11-26 16:40:22
-2025-11-26 16:40:22
-2025-11-26 16:40:22
-2025-11-26 16:40:23
-2025-10-23 15:30:29
-2025-11-26 16:40:23
-2025-11-26 16:40:23
-2025-11-26 16:40:24
-2025-11-26 16:40:23
-2025-11-26 16:40:23
-2025-10-23 15:30:29
-2025-11-26 16:40:23
-2025-11-26 16:40:24
-2025-11-26 16:40:24
-2025-11-26 16:40:24
-2025-11-26 16:40:24
-2025-11-26 16:40:24
-2025-11-26 16:40:24
-2025-11-26 16:40:24
-2025-11-26 16:40:25
-2025-11-26 16:40:24
-2025-11-26 16:40:24
-2025-11-26 16:40:24
-2025-11-26 16:40:25
-2025-11-26 16:40:25
-2025-11-26 16:40:25
-2025-11-26 16:40:25
-2025-11-26 16:40:25
-2025-11-26 16:40:25
-2025-11-26 16:40:25
-2025-11-26 16:40:25
-2025-11-26 16:40:25
-2025-11-26 16:40:25
-2025-11-26 16:40:25
-2025-11-26 16:40:25
-2025-11-26 16:40:25
-2025-11-26 16:40:25
-2025-11-26 16:40:25
-2025-11-26 16:40:25
-2025-11-26 16:40:25
-2025-11-26 16:40:26
-2025-11-26 16:40:26
-2025-11-26 16:40:26
-2025-11-26 16:40:26
-2025-10-23 15:30:30
-2025-11-26 16:40:26
-2025-11-26 16:40:26
-2025-11-26 16:40:26
-2025-11-26 16:40:26
-2025-11-26 16:40:26
-2025-11-26 16:39:31
-2025-11-26 16:39:31
-2025-11-26 16:39:31
-2025-11-26 16:39:31
-2025-11-26 16:39:31
-2025-11-26 16:39:31
-2025-11-26 16:39:32
-2025-11-26 16:39:32
-2025-11-26 16:39:32
-2025-11-26 16:39:32
-2025-11-26 16:39:32
-2025-11-26 16:39:32
-2025-11-26 16:39:32
-2025-11-26 16:39:32
-2025-11-26 16:39:32
-2025-11-26 16:39:32
-2025-11-26 16:39:32
-2025-11-26 16:39:32
-2025-11-26 16:39:32
-2025-11-26 16:39:32
-2025-11-26 16:39:32
-2025-11-26 16:39:32
-2025-11-26 16:39:32
-2025-11-26 16:39:32
-2025-11-26 16:39:32
-2025-11-26 16:39:32
-2025-11-26 16:39:32
-2025-11-26 16:39:32
-2025-11-26 16:39:32
-2025-11-26 16:39:32
-2025-11-26 16:39:32
-2025-11-26 16:39:32
-2025-11-26 16:39:32
-2025-11-26 16:39:32
-2025-11-26 16:39:32
-2025-11-26 16:39:32
-2025-11-26 16:39:32
-2025-11-26 16:39:32
-2025-11-26 16:39:32
-2025-11-26 16:39:33
-2025-11-26 16:39:33
-2025-11-26 16:39:33
-2025-11-26 16:39:33
-2025-11-26 16:39:33
-2025-11-26 16:39:33
-2025-11-26 16:39:33
-2025-11-26 16:39:33
-2025-11-26 16:39:33
-2025-11-26 16:39:33
-2025-11-26 16:39:33
-2025-11-26 16:39:33
-2025-11-26 16:39:33
-2025-11-26 16:39:33
-2025-11-26 16:39:33
-2025-11-26 16:39:33
-2025-11-26 16:39:33
-2025-11-26 16:39:33
-2025-11-26 16:39:33
-2025-11-26 16:39:33
-2025-11-26 16:39:33
-2025-11-26 16:39:33
-2025-11-26 16:39:34
-2025-11-26 16:39:34
-2025-11-26 16:39:34
-2025-11-26 16:39:34
-2025-11-26 16:39:34
-2025-11-26 16:39:34
-2025-11-26 16:39:34
-2025-11-26 16:39:34
-2025-11-26 16:39:34
-2025-11-26 16:39:34
-2025-11-26 16:39:34
-2025-11-26 16:39:34
-2025-11-26 16:39:34
-2025-11-26 16:39:34
-2025-11-26 16:39:34
-2025-11-26 16:39:34
-2025-11-26 16:39:34
-2025-11-26 16:39:34
-2025-11-26 16:39:34
-2025-11-26 16:39:34
-2025-11-26 16:39:34
-2025-11-26 16:39:34
-2025-11-26 16:39:35
-2025-11-26 16:39:35
-2025-11-26 16:39:35
-2025-11-26 16:39:35
-2025-11-26 16:39:35
-2025-11-26 16:39:35
-2025-11-26 16:39:35
-2025-11-26 16:39:35
-2025-11-26 16:39:35
-2025-11-26 16:39:35
-2025-10-23 15:30:18
-2025-11-26 16:39:35
-2025-11-26 16:39:35
-2025-11-26 16:39:36
-2025-11-26 16:39:35
-2025-11-26 16:39:35
-2025-11-26 16:38:39
-2025-11-26 16:39:35
-2025-11-26 16:39:36
-2025-11-26 16:39:35
-2025-11-26 16:39:35
-2025-11-26 16:39:35
-2025-11-26 16:39:36
-2025-11-26 16:39:36
-2025-10-23 15:30:18
-2025-10-23 15:30:18
-2025-10-23 15:30:18
-2025-10-23 15:30:18
-2025-11-26 16:39:36
-2025-11-26 16:39:36
-2025-11-26 16:39:36
-2025-11-26 16:39:36
-2025-11-26 16:39:36
-2025-11-26 16:39:36
-2025-11-26 16:39:36
-2025-11-26 16:39:36
-2025-11-26 16:39:36
-2025-11-26 16:39:36
-2025-11-26 16:39:36
-2025-11-26 16:39:36
-2025-11-26 16:39:36
-2025-11-26 16:39:36
-2025-11-26 16:39:36
-2025-11-26 16:39:36
-2025-11-26 16:39:36
-2025-11-26 16:39:36
-2025-11-26 16:39:37
-2025-11-26 16:39:37
-2025-11-26 16:39:37
-2025-11-26 16:39:37
-2025-11-26 16:39:41
-2025-11-26 16:39:37
-2025-11-26 16:39:37
-2025-11-26 16:39:37
-2025-11-26 16:39:37
-2025-11-26 16:39:37
-2025-11-26 16:39:37
-2025-11-26 16:39:37
-2025-11-26 16:39:37
-2025-11-26 16:39:37
-2025-11-26 16:39:37
-2025-11-26 16:39:37
-2025-10-23 15:30:19
-2025-11-26 16:39:37
-2025-11-26 16:39:38
-2025-11-26 16:39:38
-2025-11-26 16:39:38
-2025-11-26 16:39:38
-2025-11-26 16:39:38
-2025-11-26 16:39:38
-2025-11-26 16:39:38
-2025-11-26 16:39:38
-2025-11-26 16:39:38
-2025-11-26 16:39:38
-2025-11-26 16:39:38
-2025-11-26 16:39:38
-2025-11-26 16:39:38
-2025-11-26 16:39:38
-2025-11-26 16:39:38
-2025-11-26 16:39:38
-2025-11-26 16:39:38
-2025-11-26 16:39:38
-2025-11-26 16:39:38
-2025-11-26 16:39:38
-2025-11-26 16:39:38
-2025-11-26 16:39:39
-2025-11-26 16:39:39
-2025-11-26 16:39:39
-2025-11-26 16:39:39
-2025-11-26 16:39:39
-2025-11-26 16:39:39
-2025-11-26 16:39:39
-2025-10-23 15:30:19
-2025-11-26 16:39:39
-2025-11-26 16:39:39
-2025-11-26 16:39:39
-2025-11-26 16:39:39
-2025-11-26 16:39:39
-2025-11-26 16:39:39
-2025-11-26 16:39:39
-2025-11-26 16:39:39
-2025-11-26 16:39:39
-2025-11-26 16:39:39
-2025-11-26 16:39:39
-2025-11-26 16:39:39
-2025-11-26 16:39:39
-2025-11-26 16:39:39
-2025-11-26 16:39:39
-2025-11-26 16:39:39
-2025-11-26 16:39:39
-2025-11-26 16:39:39
-2025-11-26 16:39:39
-2025-11-26 16:39:40
-2025-11-26 16:39:40
-2025-11-26 16:39:40
-2025-11-26 16:39:40
-2025-11-26 16:39:40
-2025-11-26 16:39:40
-2025-11-26 16:39:40
-2025-11-26 16:39:40
-2025-11-26 16:39:40
-2025-11-26 16:39:40
-2025-11-26 16:39:40
-2025-11-26 16:39:40
-2025-11-26 16:39:40
-2025-11-26 16:39:40
-2025-11-26 16:39:40
-2025-11-26 16:39:40
-2025-11-26 16:39:40
-2025-11-26 16:39:40
-2025-11-26 16:39:40
-2025-11-26 16:39:40
-2025-11-26 16:39:40
-2025-11-26 16:39:40
-2025-11-26 16:39:40
-2025-11-26 16:39:40
-2025-11-26 16:39:40
-2025-11-26 16:39:41
-2025-11-26 16:39:41
-2025-11-26 16:39:41
-2025-11-26 16:39:41
-2025-11-26 16:39:41
-2025-11-26 16:39:41
-2025-11-26 16:39:41
-2025-11-26 16:39:41
-2025-11-26 16:39:41
-2025-11-26 16:39:41
-2025-11-26 16:39:41
-2025-11-26 16:39:41
-2025-11-26 16:39:41
-2025-11-26 16:39:41
-2025-11-26 16:39:41
-2025-11-26 16:39:41
-2025-11-26 16:39:41
-2025-11-26 16:39:41
-2025-11-26 16:39:41
-2025-11-26 16:39:41
-2025-11-26 16:39:41
-2025-11-26 16:39:41
-2025-11-26 16:39:41
-2025-11-26 16:39:41
-2025-11-26 16:39:41
-2025-11-26 16:39:41
-2025-11-26 16:39:41
-2025-11-26 16:39:41
-2025-11-26 16:39:41
-2025-11-26 16:39:42
-2025-11-26 16:39:42
-2025-11-26 16:39:42
-2025-11-26 16:39:42
-2025-11-26 16:39:42
-2025-11-26 16:39:42
-2025-11-26 16:39:44
-2025-11-26 16:39:42
-2025-11-26 16:39:42
-2025-11-26 16:39:42
-2025-11-26 16:39:42
-2025-11-26 16:39:42
-2025-11-26 16:39:42
-2025-11-26 16:39:42
-2025-11-26 16:39:42
-2025-11-26 16:39:42
-2025-11-26 16:39:42
-2025-11-26 16:39:42
-2025-11-26 16:39:42
-2025-11-26 16:39:42
-2025-11-26 16:39:42
-2025-11-26 16:39:42
-2025-11-26 16:39:42
-2025-11-26 16:39:42
-2025-11-26 16:39:42
-2025-11-26 16:39:43
-2025-11-26 16:39:43
-2025-11-26 16:39:43
-2025-11-26 16:39:43
-2025-11-26 16:39:43
-2025-11-26 16:39:43
-2025-11-26 16:39:43
-2025-11-26 16:39:43
-2025-11-26 16:39:43
-2025-11-26 16:39:43
-2025-11-26 16:39:43
-2025-11-26 16:39:43
-2025-11-26 16:39:43
-2025-11-26 16:39:43
-2025-11-26 16:39:43
-2025-11-26 16:39:43
-2025-11-26 16:39:43
-2025-11-26 16:39:43
-2025-11-26 16:39:43
-2025-11-26 16:39:43
-2025-11-26 16:39:44
-2025-11-26 16:39:44
-2025-11-26 16:39:44
-2025-11-26 16:39:44
-2025-11-26 16:39:44
-2025-11-26 16:39:44
-2025-11-26 16:39:44
-2025-11-26 16:39:44
-2025-11-26 16:39:44
-2025-11-26 16:39:44
-2025-11-26 16:39:44
-2025-11-26 16:39:44
-2025-11-26 16:39:44
-2025-11-26 16:39:44
-2025-11-26 16:39:44
-2025-11-26 16:39:44
-2025-11-26 16:39:45
-2025-11-26 16:39:45
-2025-11-26 16:39:45
-2025-11-26 16:39:45
-2025-11-26 16:39:45
-2025-11-26 16:39:45
-2025-11-26 16:39:45
-2025-11-26 16:39:45
-2025-11-26 16:39:45
-2025-11-26 16:39:45
-2025-11-26 16:39:45
-2025-11-26 16:39:45
-2025-11-26 16:39:45
-2025-11-26 16:39:45
-2025-11-26 16:39:45
-2025-11-26 16:39:45
-2025-11-26 16:39:45
-2025-11-26 16:39:45
-2025-11-26 16:39:45
-2025-11-26 16:39:45
-2025-11-26 16:39:45
-2025-11-26 16:39:45
-2025-11-26 16:39:46
-2025-11-26 16:39:46
-2025-11-26 16:39:46
-2025-11-26 16:39:46
-2025-11-26 16:39:46
-2025-11-26 16:39:46
-2025-11-26 16:39:46
-2025-11-26 16:39:46
-2025-11-26 16:39:46
-2025-11-26 16:39:46
-2025-11-26 16:39:46
-2025-11-26 16:39:46
-2025-11-26 16:39:46
-2025-11-26 16:39:46
-2025-11-26 16:39:46
-2025-11-26 16:39:46
-2025-11-26 16:39:46
-2025-11-26 16:39:46
-2025-11-26 16:39:46
-2025-11-26 16:39:46
-2025-11-26 16:39:46
-2025-11-26 16:39:46
-2025-11-26 16:39:46
-2025-11-26 16:39:46
-2025-11-26 16:39:46
-2025-11-26 16:39:46
-2025-11-26 16:39:46
-2025-11-26 16:39:46
-2025-11-26 16:39:46
-2025-11-26 16:39:46
-2025-11-26 16:39:46
-2025-11-26 16:39:47
-2025-11-26 16:39:47
-2025-11-26 16:39:47
-2025-11-26 16:39:47
-2025-11-26 16:39:47
-2025-11-26 16:39:47
-2025-11-26 16:39:47
-2025-11-26 16:39:47
-2025-11-26 16:39:47
-2025-11-26 16:39:47
-2025-11-26 16:39:47
-2025-11-26 16:39:47
-2025-11-26 16:39:47
-2025-11-26 16:39:47
-2025-11-26 16:39:47
-2025-11-26 16:39:47
-2025-11-26 16:39:47
-2025-11-26 16:39:47
-2025-11-26 16:39:47
-2025-11-26 16:39:47
-2025-11-26 16:39:47
-2025-11-26 16:39:47
-2025-11-26 16:39:47
-2025-11-26 16:39:47
-2025-11-26 16:39:47
-2025-11-26 16:39:47
-2025-11-26 16:39:47
-2025-11-26 16:39:47
-2025-11-26 16:39:47
-2025-11-26 16:39:47
-2025-11-26 16:39:47
-2025-11-26 16:39:47
-2025-11-26 16:39:47
-2025-11-26 16:39:47
-2025-11-26 16:39:47
-2025-11-26 16:39:48
-2025-11-26 16:39:48
-2025-11-26 16:39:48
-2025-11-26 16:39:48
-2025-11-26 16:39:48
-2025-11-26 16:39:48
-2025-11-26 16:39:48
-2025-11-26 16:39:48
-2025-11-26 16:39:48
-2025-11-26 16:39:48
-2025-11-26 16:39:50
-2025-11-26 16:39:51
-2025-11-26 16:39:48
-2025-11-26 16:39:48
-2025-11-26 16:39:48
-2025-11-26 16:39:48
-2025-11-26 16:39:48
-2025-11-26 16:39:48
-2025-11-26 16:39:48
-2025-11-26 16:39:48
-2025-11-26 16:39:49
-2025-11-26 16:39:48
-2025-11-26 16:39:48
-2025-11-26 16:39:48
-2025-11-26 16:39:48
-2025-11-26 16:39:48
-2025-11-26 16:39:49
-2025-11-26 16:39:49
-2025-11-26 16:39:49
-2025-11-26 16:39:48
-2025-11-26 16:39:48
-2025-11-26 16:39:48
-2025-11-26 16:39:48
-2025-11-26 16:39:49
-2025-11-26 16:39:49
-2025-11-26 16:39:49
-2025-11-26 16:39:49
-2025-11-26 16:39:49
-2025-11-26 16:39:49
-2025-11-26 16:39:49
-2025-11-26 16:39:50
-2025-11-26 16:39:50
-2025-11-26 16:39:50
-2025-11-26 16:39:50
-2025-11-26 16:39:50
-2025-11-26 16:39:50
-2025-11-26 16:39:50
-2025-11-26 16:39:50
-2025-11-26 16:39:50
-2025-11-26 16:39:50
-2025-11-26 16:39:50
-2025-11-26 16:39:50
-2025-11-26 16:39:50
-2025-11-26 16:39:50
-2025-11-26 16:39:50
-2025-11-26 16:39:50
-2025-11-26 16:39:50
-2025-11-26 16:39:50
-2025-11-26 16:39:50
-2025-11-26 16:39:50
-2025-11-26 16:39:50
-2025-11-26 16:39:50
-2025-11-26 16:39:50
-2025-11-26 16:39:50
-2025-11-26 16:39:50
-2025-11-26 16:39:51
-2025-11-26 16:39:50
-2025-11-26 16:39:50
-2025-11-26 16:39:51
-2025-10-23 15:30:22
-2025-11-26 16:39:51
-2025-11-26 16:39:51
-2025-11-26 16:39:51
-2025-11-26 16:39:51
-2025-11-26 16:39:51
-2025-11-26 16:39:51
-2025-11-26 16:39:51
-2025-11-26 16:39:51
-2025-11-26 16:39:51
-2025-11-26 16:39:51
-2025-11-26 16:39:51
-2025-11-26 16:39:51
-2025-11-26 16:39:51
-2025-11-26 16:39:51
-2025-11-26 16:39:51
-2025-11-26 16:39:52
-2025-11-26 16:39:52
-2025-11-26 16:39:52
-2025-10-23 15:30:22
-2025-10-23 15:30:22
-2025-11-26 16:39:52
-2025-11-26 16:39:52
-2025-11-26 16:39:52
-2025-11-26 16:39:52
-2025-11-26 16:39:52
-2025-11-26 16:39:52
-2025-11-26 16:39:52
-2025-11-26 16:39:52
-2025-11-26 16:39:53
-2025-10-23 15:30:22
-2025-11-26 16:39:53
-2025-11-26 16:39:53
-2025-11-26 16:39:53
-2025-11-26 16:39:53
-2025-11-26 16:38:08
-2025-11-26 16:39:53
-2025-11-26 16:39:53
-2025-11-26 16:39:53
-2025-11-26 16:39:53
-2025-11-26 16:39:53
-2025-11-26 16:39:53
-2025-11-26 16:39:53
-2025-11-26 16:39:54
-2025-11-26 16:39:54
-2025-11-26 16:39:54
-2025-11-26 16:39:54
-2025-11-26 16:39:54
-2025-11-26 16:39:54
-2025-11-26 16:39:54
-2025-11-26 16:39:54
-2025-11-26 16:39:54
-2025-11-26 16:39:54
-2025-11-26 16:39:54
-2025-11-26 16:39:54
-2025-11-26 16:39:54
-2025-11-26 16:39:53
-2025-11-26 16:39:53
-2025-11-26 16:39:53
-2025-11-26 16:39:53
-2025-11-26 16:39:53
-2025-11-26 16:39:53
-2025-11-26 16:39:53
-2025-11-26 16:39:53
-2025-11-26 16:39:53
-2025-11-26 16:39:53
-2025-11-26 16:39:53
-2025-11-26 16:39:53
-2025-11-26 16:39:53
-2025-11-26 16:39:54
-2025-11-26 16:39:54
-2025-11-26 16:39:54
-2025-11-26 16:39:54
-2025-11-26 16:39:54
-2025-11-26 16:39:54
-2025-11-26 16:39:54
-2025-11-26 16:39:54
-2025-11-26 16:39:54
-2025-11-26 16:39:54
-2025-10-23 15:30:23
-2025-10-23 15:30:23
-2025-11-26 16:39:54
-2025-11-26 16:39:54
-2025-11-26 16:39:54
-2025-11-26 16:39:55
-2025-11-26 16:39:55
-2025-11-26 16:39:55
-2025-11-26 16:39:55
-2025-11-26 16:39:55
-2025-11-26 16:39:55
-2025-11-26 16:39:55
-2025-11-26 16:39:55
-2025-11-26 16:39:55
-2025-11-26 16:39:55
-2025-11-26 16:39:55
-2025-11-26 16:39:55
-2025-11-26 16:39:55
-2025-11-26 16:39:55
-2025-10-23 15:30:23
-2025-11-26 16:39:55
-2025-11-26 16:39:55
-2025-11-26 16:39:55
-2025-11-26 16:39:55
-2025-11-26 16:39:55
-2025-11-26 16:39:55
-2025-11-26 16:39:55
-2025-11-26 16:39:56
-2025-11-26 16:39:56
-2025-11-26 16:39:56
-2025-11-26 16:39:56
-2025-11-26 16:39:56
-2025-11-26 16:39:56
-2025-11-26 16:39:56
-2025-11-26 16:39:56
-2025-11-26 16:39:56
-2025-11-26 16:39:56
-2025-11-26 16:39:56
-2025-11-26 16:39:56
-2025-11-26 16:39:56
-2025-11-26 16:39:56
-2025-11-26 16:39:56
-2025-11-26 16:39:56
-2025-10-23 15:30:23
-2025-11-26 16:39:56
-2025-11-26 16:39:57
-2025-11-26 16:39:57
-2025-11-26 16:39:56
-2025-11-26 16:39:57
-2025-11-26 16:39:57
-2025-11-26 16:39:56
-2025-11-26 16:39:56
-2025-11-26 16:39:56
-2025-11-26 16:39:56
-2025-11-26 16:39:57
-2025-11-26 16:39:57
-2025-11-26 16:39:57
-2025-11-26 16:39:57
-2025-11-26 16:39:57
-2025-11-26 16:39:57
-2025-11-26 16:39:57
-2025-11-26 16:39:57
-2025-11-26 16:39:57
-2025-11-26 16:39:57
-2025-11-26 16:39:57
-2025-11-26 16:39:57
-2025-11-26 16:39:57
-2025-11-26 16:39:57
-2025-11-26 16:39:57
-2025-11-26 16:39:57
-2025-11-26 16:39:57
-2025-11-26 16:39:57
-2025-11-26 16:39:58
-2025-11-26 16:39:58
-2025-11-26 16:39:58
-2025-11-26 16:39:58
-2025-11-26 16:39:58
-2025-11-26 16:39:58
-2025-11-26 16:39:58
-2025-11-26 16:39:58
-2025-11-26 16:39:58
-2025-11-26 16:39:58
-2025-11-26 16:39:58
-2025-11-26 16:39:58
-2025-11-26 16:39:58
-2025-11-26 16:39:58
-2025-11-26 16:39:58
-2025-11-26 16:39:58
-2025-11-26 16:39:58
-2025-11-26 16:39:58
-2025-11-26 16:39:58
-2025-11-26 16:39:58
-2025-11-26 16:39:58
-2025-11-26 16:39:59
-2025-11-26 16:39:59
-2025-11-26 16:39:59
-2025-11-26 16:39:59
-2025-11-26 16:39:59
-2025-11-26 16:39:59
-2025-11-26 16:39:59
-2025-11-26 16:39:59
-2025-11-26 16:39:59
-2025-11-26 16:39:59
-2025-11-26 16:39:59
-2025-11-26 16:39:59
-2025-11-26 16:39:59
-2025-11-26 16:39:59
-2025-11-26 16:40:00
-2025-11-26 16:40:00
-2025-11-26 16:40:00
-2025-11-26 16:40:00
-2025-11-26 16:40:00
-2025-11-26 16:40:00
-2025-11-26 16:40:00
-2025-11-26 16:40:00
-2025-11-26 16:40:00
-2025-11-26 16:39:59
-2025-11-26 16:39:59
-2025-11-26 16:39:59
-2025-11-26 16:39:59
-2025-11-26 16:39:59
-2025-11-26 16:39:59
-2025-11-26 16:39:59
-2025-11-26 16:39:59
-2025-11-26 16:39:59
-2025-11-26 16:39:59
-2025-11-26 16:39:59
-2025-11-26 16:39:59
-2025-11-26 16:40:00
-2025-11-26 16:40:00
-2025-11-26 16:40:00
-2025-11-26 16:40:00
-2025-11-26 16:40:00
-2025-11-26 16:40:00
-2025-11-26 16:40:00
-2025-11-26 16:40:00
-2025-11-26 16:40:00
-2025-11-26 16:40:00
-2025-11-26 16:40:00
-2025-11-26 16:40:00
-2025-11-26 16:40:00
-2025-11-26 16:40:00
-2025-11-26 16:40:00
-2025-11-26 16:40:00
-2025-11-26 16:40:00
-2025-11-26 16:40:01
-2025-11-26 16:40:01
-2025-11-26 16:40:01
-2025-11-26 16:40:01
-2025-11-26 16:40:01
-2025-11-26 16:40:01
-2025-11-26 16:40:01
-2025-11-26 16:40:01
-2025-11-26 16:40:01
-2025-11-26 16:40:01
-2025-11-26 16:40:01
-2025-11-26 16:40:01
-2025-11-26 16:40:02
-2025-11-26 16:40:02
-2025-11-26 16:40:01
-2025-11-26 16:40:02
-2025-11-26 16:40:02
-2025-11-26 16:40:02
-2025-11-26 16:40:02
-2025-11-26 16:40:02
-2025-11-26 16:40:02
-2025-11-26 16:40:02
-2025-11-26 16:40:02
-2025-11-26 16:40:02
-2025-11-26 16:40:02
-2025-11-26 16:40:03
-2025-11-26 16:40:02
-2025-11-26 16:40:02
-2025-11-26 16:40:02
-2025-11-26 16:40:03
-2025-11-26 16:40:03
-2025-11-26 16:40:03
-2025-11-26 16:40:03
-2025-11-26 16:40:03
-2025-11-26 16:40:03
-2025-11-26 16:40:03
-2025-11-26 16:40:03
-2025-11-26 16:40:03
-2025-11-26 16:40:03
-2025-11-26 16:40:03
-2025-11-26 16:40:03
-2025-11-26 16:40:03
-2025-11-26 16:40:03
-2025-11-26 16:40:03
-2025-11-26 16:40:03
-2025-11-26 16:40:03
-2025-10-23 15:30:25
-2025-11-26 16:40:03
-2025-11-26 16:40:03
-2025-11-26 16:40:03
-2025-11-26 16:40:03
-2025-11-26 16:40:03
-2025-11-26 16:40:04
-2025-11-26 16:40:04
-2025-11-26 16:40:04
-2025-11-26 16:40:04
-2025-11-26 16:40:04
-2025-11-26 16:40:04
-2025-11-26 16:40:04
-2025-11-26 16:40:04
-2025-11-26 16:40:04
-2025-11-26 16:40:04
-2025-11-26 16:40:04
-2025-11-26 16:40:04
-2025-11-26 16:40:04
-2025-11-26 16:40:04
-2025-11-26 16:40:04
-2025-11-26 16:40:04
-2025-11-26 16:40:04
-2025-11-26 16:40:04
-2025-11-26 16:40:04
-2025-11-26 16:40:05
-2025-11-26 16:40:04
-2025-11-26 16:40:04
-2025-11-26 16:40:04
-2025-11-26 16:40:04
-2025-11-26 16:40:04
-2025-11-26 16:40:05
-2025-11-26 16:40:05
-2025-11-26 16:40:05
-2025-11-26 16:40:05
-2025-11-26 16:40:05
-2025-11-26 16:40:05
-2025-11-26 16:40:05
-2025-11-26 16:40:05
-2025-11-26 16:40:05
-2025-11-26 16:40:05
-2025-11-26 16:40:05
-2025-10-23 15:30:25
-2025-11-26 16:40:05
-2025-11-26 16:40:05
-2025-11-26 16:40:05
-2025-11-26 16:40:08
-2025-11-26 16:40:08
-2025-11-26 16:40:05
-2025-11-26 16:40:05
-2025-11-26 16:40:05
-2025-11-26 16:40:05
-2025-11-26 16:40:06
-2025-11-26 16:40:06
-2025-11-26 16:40:06
-2025-11-26 16:40:06
-2025-11-26 16:40:06
-2025-11-26 16:40:06
-2025-11-26 16:40:06
-2025-11-26 16:40:06
-2025-11-26 16:40:06
-2025-11-26 16:40:06
-2025-11-26 16:40:06
-2025-11-26 16:40:06
-2025-11-26 16:40:06
-2025-11-26 16:40:06
-2025-11-26 16:40:06
-2025-11-26 16:40:06
-2025-11-26 16:40:06
-2025-11-26 16:40:06
-2025-11-26 16:40:06
-2025-11-26 16:40:06
-2025-11-26 16:40:06
-2025-11-26 16:40:06
-2025-11-26 16:40:06
-2025-11-26 16:40:06
-2025-11-26 16:40:06
-2025-11-26 16:40:06
-2025-11-26 16:40:07
-2025-11-26 16:40:07
-2025-11-26 16:40:07
-2025-11-26 16:40:07
-2025-11-26 16:40:07
-2025-11-26 16:40:07
-2025-11-26 16:40:07
-2025-11-26 16:40:07
-2025-11-26 16:40:07
-2025-11-26 16:40:07
-2025-11-26 16:40:07
-2025-11-26 16:40:07
-2025-11-26 16:40:07
-2025-11-26 16:40:07
-2025-11-26 16:40:07
-2025-11-26 16:40:07
-2025-11-26 16:40:07
-2025-11-26 16:40:07
-2025-11-26 16:40:07
-2025-11-26 16:40:07
-2025-11-26 16:40:07
-2025-11-26 16:40:07
-2025-11-26 16:40:07
-2025-11-26 16:40:07
-2025-11-26 16:40:07
-2025-11-26 16:40:07
-2025-11-26 16:40:08
-2025-11-26 16:40:08
-2025-11-26 16:40:08
-2025-11-26 16:40:08
-2025-11-26 16:40:08
-2025-11-26 16:40:08
-2025-11-26 16:40:08
-2025-11-26 16:40:08
-2025-11-26 16:40:08
-2025-11-26 16:40:08
-2025-11-26 16:40:08
-2025-11-26 16:40:08
-2025-11-26 16:40:08
-2025-11-26 16:40:08
-2025-11-26 16:40:08
-2025-11-26 16:40:08
-2025-11-26 16:40:08
-2025-11-26 16:40:08
-2025-11-26 16:40:08
-2025-11-26 16:40:08
-2025-11-26 16:40:08
-2025-11-26 16:40:08
-2025-11-26 16:40:09
-2025-11-26 16:40:09
-2025-11-26 16:40:09
-2025-11-26 16:40:09
-2025-11-26 16:40:09
-2025-10-23 15:30:26
-2025-11-26 16:40:09
-2025-11-26 16:40:09
-2025-11-26 16:40:09
-2025-11-26 16:40:09
-2025-11-26 16:40:09
-2025-11-26 16:40:09
-2025-11-26 16:40:09
-2025-11-26 16:40:09
-2025-11-26 16:40:09
-2025-11-26 16:40:09
-2025-11-26 16:40:09
-2025-11-26 16:40:09
-2025-11-26 16:40:09
-2025-11-26 16:40:10
-2025-11-26 16:40:10
-2025-11-26 16:40:10
-2025-10-23 15:30:27
-2025-11-26 16:40:11
-2025-11-26 16:40:11
-2025-10-23 15:30:27
-2025-11-26 16:40:13
-2025-11-26 16:40:13
-2025-11-26 16:40:13
-2025-11-26 16:40:13
-2025-11-26 16:40:14
-2025-11-26 16:40:09
-2025-11-26 16:40:09
-2025-11-26 16:40:09
-2025-11-26 16:40:09
-2025-11-26 16:40:09
-2025-11-26 16:40:09
-2025-11-26 16:40:10
-2025-11-26 16:40:10
-2025-11-26 16:40:10
-2025-11-26 16:40:10
-2025-11-26 16:40:10
-2025-11-26 16:40:10
-2025-11-26 16:40:10
-2025-11-26 16:40:11
-2025-11-26 16:40:11
-2025-11-26 16:40:11
-2025-11-26 16:40:11
-2025-11-26 16:40:11
-2025-11-26 16:40:11
-2025-11-26 16:40:11
-2025-11-26 16:40:11
-2025-11-26 16:40:11
-2025-11-26 16:40:11
-2025-11-26 16:40:11
-2025-11-26 16:40:11
-2025-11-26 16:40:11
-2025-11-26 16:40:11
-2025-11-26 16:40:11
-2025-11-26 16:40:11
-2025-11-26 16:40:11
-2025-11-26 16:40:11
-2025-11-26 16:40:11
-2025-11-26 16:40:12
-2025-11-26 16:40:12
-2025-11-26 16:40:12
-2025-11-26 16:40:12
-2025-11-26 16:40:12
-2025-11-26 16:40:12
-2025-11-26 16:40:12
-2025-11-26 16:40:12
-2025-11-26 16:40:12
-2025-11-26 16:40:12
-2025-11-26 16:40:12
-2025-11-26 16:40:12
-2025-11-26 16:40:12
-2025-11-26 16:40:13
-2025-11-26 16:40:13
-2025-11-26 16:40:13
-2025-11-26 16:40:13
-2025-11-26 16:40:13
-2025-11-26 16:40:13
-2025-11-26 16:40:13
-2025-11-26 16:38:25
-2025-11-26 16:40:13
-2025-11-26 16:40:13
-2025-11-26 16:38:25
-2025-11-26 16:40:20
-2025-11-26 16:40:20
-2025-11-26 16:40:20
-2025-11-26 16:40:14
-2025-11-26 16:40:14
-2025-11-26 16:40:14
-2025-11-26 16:40:14
-2025-11-26 16:40:14
-2025-11-26 16:40:14
-2025-11-26 16:40:14
-2025-11-26 16:40:14
-2025-11-26 16:40:14
-2025-11-26 16:40:14
-2025-11-26 16:40:14
-2025-11-26 16:40:14
-2025-11-26 16:40:14
-2025-11-26 16:40:15
-2025-11-26 16:40:15
-2025-11-26 16:40:15
-2025-11-26 16:40:15
-2025-11-26 16:40:15
-2025-11-26 16:40:15
-2025-11-26 16:40:15
-2025-11-26 16:40:15
-2025-11-26 16:40:15
-2025-11-26 16:40:15
-2025-11-26 16:40:15
-2025-11-26 16:40:15
-2025-11-26 16:40:15
-2025-11-26 16:40:15
-2025-11-26 16:40:15
-2025-11-26 16:40:15
-2025-11-26 16:40:15
-2025-11-26 16:40:15
-2025-11-26 16:40:15
-2025-11-26 16:40:15
-2025-11-26 16:40:15
-2025-11-26 16:40:16
-2025-11-26 16:40:16
-2025-11-26 16:40:16
-2025-11-26 16:40:16
-2025-11-26 16:40:16
-2025-11-26 16:40:16
-2025-11-26 16:40:16
-2025-11-26 16:40:16
-2025-11-26 16:40:16
-2025-11-26 16:40:14
-2025-11-26 16:40:14
-2025-11-26 16:40:14
-2025-11-26 16:40:14
-2025-11-26 16:40:14
-2025-11-26 16:40:14
-2025-11-26 16:40:15
-2025-11-26 16:40:15
-2025-11-26 16:40:15
-2025-11-26 16:40:15
-2025-11-26 16:40:15
-2025-11-26 16:40:15
-2025-11-26 16:40:15
-2025-11-26 16:40:15
-2025-11-26 16:40:15
-2025-11-26 16:40:15
-2025-11-26 16:40:15
-2025-11-26 16:40:16
-2025-11-26 16:40:16
-2025-11-26 16:40:16
-2025-11-26 16:40:16
-2025-11-26 16:40:16
-2025-11-26 16:40:16
-2025-11-26 16:40:16
-2025-11-26 16:40:16
-2025-11-26 16:40:16
-2025-11-26 16:40:16
-2025-11-26 16:40:16
-2025-11-26 16:40:16
-2025-11-26 16:40:16
-2025-11-26 16:40:16
-2025-11-26 16:40:16
-2025-10-23 15:30:28
-2025-10-23 15:30:28
-2025-11-26 16:40:16
-2025-11-26 16:40:16
-2025-11-26 16:40:16
-2025-10-23 15:30:28
-2025-11-26 16:40:16
-2025-11-26 16:40:16
-2025-11-26 16:40:17
-2025-11-26 16:40:17
-2025-11-26 16:40:17
-2025-11-26 16:40:17
-2025-11-26 16:40:17
-2025-11-26 16:40:17
-2025-11-26 16:40:17
-2025-11-26 16:40:17
-2025-11-26 16:40:17
-2025-11-26 16:40:17
-2025-11-26 16:40:17
-2025-11-26 16:40:17
-2025-11-26 16:40:17
-2025-11-26 16:40:17
-2025-11-26 16:40:17
-2025-11-26 16:40:17
-2025-11-26 16:40:17
-2025-11-26 16:40:17
-2025-11-26 16:40:17
-2025-11-26 16:40:17
-2025-11-26 16:40:17
-2025-11-26 16:40:18
-2025-11-26 16:40:18
-2025-11-26 16:40:18
-2025-11-26 16:40:18
-2025-11-26 16:40:18
-2025-11-26 16:40:18
-2025-11-26 16:40:18
-2025-11-26 16:40:18
-2025-11-26 16:40:18
-2025-11-26 16:40:18
-2025-11-26 16:40:18
-2025-11-26 16:40:18
-2025-11-26 16:40:18
-2025-11-26 16:40:18
-2025-11-26 16:40:18
-2025-11-26 16:40:18
-2025-11-26 16:40:18
-2025-11-26 16:40:18
-2025-11-26 16:40:19
-2025-11-26 16:40:19
-2025-11-26 16:40:18
-2025-11-26 16:40:19
-2025-11-26 16:40:19
-2025-11-26 16:40:19
-2025-11-26 16:40:19
-2025-11-26 16:40:19
-2025-11-26 16:40:19
-2025-11-26 16:40:19
-2025-11-26 16:40:19
-2025-11-26 16:40:19
-2025-11-26 16:40:19
-2025-11-26 16:40:19
-2025-11-26 16:40:19
-2025-11-26 16:40:19
-2025-11-26 16:40:19
-2025-11-26 16:40:19
-2025-11-26 16:40:19
-2025-11-26 16:40:20
-2025-11-26 16:40:20
-2025-11-26 16:40:20
-2025-11-26 16:40:20
-2025-11-26 16:40:20
-2025-11-26 16:40:20
-2025-11-26 16:40:20
-2025-11-26 16:40:20
-2025-11-26 16:40:20
-2025-11-26 16:40:20
-2025-11-26 16:40:20
-2025-11-26 16:40:20
-2025-11-26 16:40:20
-2025-11-26 16:40:20
-2025-11-26 16:40:20
-2025-11-26 16:40:20
-2025-11-26 16:40:20
-2025-11-26 16:40:20
-2025-11-26 16:40:21
-2025-11-26 16:40:21
-2025-11-26 16:40:21
-2025-11-26 16:40:21
-2025-11-26 16:40:21
-2025-11-26 16:40:21
-2025-11-26 16:40:21
-2025-11-26 16:40:21
-2025-11-26 16:40:21
-2025-11-26 16:40:21
-2025-11-26 16:40:21
-2025-11-26 16:40:21
-2025-11-26 16:40:21
-2025-11-26 16:40:21
-2025-11-26 16:40:21
-2025-11-26 16:40:21
-2025-11-26 16:40:21
-2025-11-26 16:40:21
-2025-11-26 16:40:21
-2025-11-26 16:40:21
-2025-11-26 16:40:21
-2025-11-26 16:40:23
-2025-11-26 16:40:24
-2025-11-26 16:40:24
-2025-11-26 16:40:24
-2025-11-26 16:40:23
-2025-11-26 16:40:21
-2025-11-26 16:40:21
-2025-11-26 16:40:22
-2025-11-26 16:40:22
-2025-11-26 16:40:22
-2025-11-26 16:40:22
-2025-11-26 16:40:22
-2025-11-26 16:40:22
-2025-11-26 16:40:22
-2025-11-26 16:40:22
-2025-11-26 16:40:22
-2025-11-26 16:40:22
-2025-11-26 16:40:22
-2025-11-26 16:40:22
-2025-11-26 16:40:22
-2025-11-26 16:40:22
-2025-11-26 16:40:22
-2025-11-26 16:40:22
-2025-11-26 16:40:23
-2025-11-26 16:40:23
-2025-11-26 16:40:23
-2025-11-26 16:40:23
-2025-11-26 16:40:23
-2025-11-26 16:40:23
-2025-11-26 16:40:23
-2025-11-26 16:40:23
-2025-11-26 16:40:23
-2025-11-26 16:40:23
-2025-11-26 16:40:23
-2025-11-26 16:40:23
-2025-11-26 16:40:23
-2025-11-26 16:40:23
-2025-11-26 16:40:23
-2025-11-26 16:40:23
-2025-11-26 16:40:23
-2025-11-26 16:40:23
-2025-11-26 16:40:23
-2025-11-26 16:40:23
-2025-10-23 15:30:29
-2025-11-26 16:40:23
-2025-11-26 16:40:23
-2025-11-26 16:40:24
-2025-11-26 16:40:24
-2025-11-26 16:40:24
-2025-11-26 16:40:24
-2025-11-26 16:40:24
-2025-11-26 16:40:24
-2025-11-26 16:40:24
-2025-11-26 16:40:24
-2025-11-26 16:40:24
-2025-11-26 16:40:24
-2025-11-26 16:40:24
-2025-11-26 16:40:24
-2025-11-26 16:40:24
-2025-11-26 16:40:25
-2025-11-26 16:40:24
-2025-11-26 16:40:24
-2025-11-26 16:40:24
-2025-11-26 16:40:24
-2025-11-26 16:40:25
-2025-11-26 16:40:25
-2025-11-26 16:40:25
-2025-11-26 16:40:25
-2025-11-26 16:40:25
-2025-11-26 16:40:25
-2025-11-26 16:40:25
-2025-11-26 16:40:25
-2025-11-26 16:40:25
-2025-11-26 16:40:25
-2025-11-26 16:40:25
-2025-11-26 16:40:25
-2025-11-26 16:40:25
-2025-11-26 16:40:25
-2025-11-26 16:40:25
-2025-11-26 16:40:25
-2025-11-26 16:40:25
-2025-11-26 16:40:25
-2025-11-26 16:40:25
-2025-11-26 16:40:25
-2025-11-26 16:40:26
-2025-11-26 16:40:26
-2025-11-26 16:40:26
-2025-11-26 16:40:26
-2025-11-26 16:40:26
-2025-11-26 16:40:26
-2025-11-26 16:40:26
-2025-11-26 16:40:26
-2025-11-26 16:40:26
-2025-11-26 16:40:26
-2025-11-26 16:40:26
-2025-11-26 16:40:26
-2025-11-26 16:40:26
-2025-11-26 16:40:26
-2025-11-26 16:40:26
7.1 KiB2025-11-26 16:36:59
7.1 KiB2025-11-26 16:36:59
7.0 KiB2025-11-26 16:36:59
792.1 KiB2025-11-26 16:36:58
2.6 KiB2025-11-26 16:36:59
589.4 KiB2025-11-26 16:36:58
3.3 KiB2025-11-26 16:36:59
1.3 MiB2025-11-26 16:40:35
7.1 KiB2025-11-26 16:36:59
607.9 KiB2025-11-26 16:36:59
3.4 MiB2025-11-26 16:40:35
7.2 KiB2025-11-26 16:36:59
617.7 KiB2025-11-26 16:36:59
3.4 MiB2025-11-26 16:40:31
11.3 MiB2025-11-26 16:40:44
238.9 KiB2025-11-26 16:36:58
7.5 KiB2025-11-26 16:36:59
529.3 KiB2025-11-26 16:36:59
3.0 MiB2025-11-26 16:40:28
390.0 KiB2025-11-26 16:36:59
11.9 KiB2025-11-26 16:36:59
6.0 KiB2025-11-26 16:36:59
61.3 MiB2025-11-26 16:41:33
0 B2025-11-26 16:36:58