Package: ABarray Version: 1.79.0 Command: /Library/Frameworks/R.framework/Resources/bin/R CMD build --keep-empty-dirs --no-resave-data ABarray StartedAt: 2025-11-19 15:36:30 -0500 (Wed, 19 Nov 2025) EndedAt: 2025-11-19 15:36:38 -0500 (Wed, 19 Nov 2025) EllapsedTime: 8.1 seconds RetCode: 0 Status: OK PackageFile: ABarray_1.79.0.tar.gz PackageFileSize: 686.6 KiB