Package: ABarray Version: 1.79.0 Command: /Library/Frameworks/R.framework/Resources/bin/R CMD INSTALL ABarray StartedAt: 2025-11-19 15:11:38 -0500 (Wed, 19 Nov 2025) EndedAt: 2025-11-19 15:11:42 -0500 (Wed, 19 Nov 2025) EllapsedTime: 4.4 seconds RetCode: 0 Status: OK