Package: ABarray Version: 1.79.0 Command: rm -rf ABarray.buildbin-libdir && mkdir ABarray.buildbin-libdir && /Users/biocbuild/BBS/utils/build-universal.sh ABarray_1.79.0.tar.gz /Library/Frameworks/R.framework/Resources/bin/R ABarray.buildbin-libdir StartedAt: 2025-11-19 01:15:55 -0500 (Wed, 19 Nov 2025) EndedAt: 2025-11-19 01:16:17 -0500 (Wed, 19 Nov 2025) EllapsedTime: 22.0 seconds RetCode: 0 Status: OK PackageFile: ABarray_1.79.0.tgz PackageFileSize: 745.7 KiB