Package: ABarray Version: 1.79.0 Command: /Library/Frameworks/R.framework/Resources/bin/R CMD build --keep-empty-dirs --no-resave-data ABarray StartedAt: 2025-11-18 16:00:57 -0500 (Tue, 18 Nov 2025) EndedAt: 2025-11-18 16:01:25 -0500 (Tue, 18 Nov 2025) EllapsedTime: 27.5 seconds RetCode: 0 Status: OK PackageFile: ABarray_1.79.0.tar.gz PackageFileSize: 684.3 KiB