Package: ABarray Version: 1.79.0 Command: /Library/Frameworks/R.framework/Resources/bin/R CMD INSTALL ABarray StartedAt: 2025-11-18 15:19:32 -0500 (Tue, 18 Nov 2025) EndedAt: 2025-11-18 15:19:46 -0500 (Tue, 18 Nov 2025) EllapsedTime: 14.1 seconds RetCode: 0 Status: OK