Package: AWAggregator Version: 1.1.0 Command: rm -rf AWAggregator.buildbin-libdir && mkdir AWAggregator.buildbin-libdir && /Users/biocbuild/BBS/utils/build-universal.sh AWAggregator_1.1.0.tar.gz /Library/Frameworks/R.framework/Resources/bin/R AWAggregator.buildbin-libdir StartedAt: 2025-11-18 23:31:18 -0500 (Tue, 18 Nov 2025) EndedAt: 2025-11-18 23:31:23 -0500 (Tue, 18 Nov 2025) EllapsedTime: 5.1 seconds RetCode: 0 Status: OK PackageFile: AWAggregator_1.1.0.tgz PackageFileSize: 305.3 KiB