Package: AWAggregator Version: 1.1.0 Command: /Library/Frameworks/R.framework/Resources/bin/R CMD build --keep-empty-dirs --no-resave-data AWAggregator StartedAt: 2025-11-18 15:50:11 -0500 (Tue, 18 Nov 2025) EndedAt: 2025-11-18 15:52:22 -0500 (Tue, 18 Nov 2025) EllapsedTime: 130.5 seconds RetCode: 0 Status: OK PackageFile: AWAggregator_1.1.0.tar.gz PackageFileSize: 273.8 KiB