Package: AWAggregator Version: 1.1.0 Command: /Library/Frameworks/R.framework/Resources/bin/R CMD INSTALL AWAggregator StartedAt: 2025-11-18 15:16:37 -0500 (Tue, 18 Nov 2025) EndedAt: 2025-11-18 15:16:42 -0500 (Tue, 18 Nov 2025) EllapsedTime: 5.2 seconds RetCode: 0 Status: OK