Package: AnnotationDbi Version: 1.73.0 Command: /Library/Frameworks/R.framework/Resources/bin/R CMD INSTALL AnnotationDbi StartedAt: 2025-11-18 15:19:30 -0500 (Tue, 18 Nov 2025) EndedAt: 2025-11-18 15:19:38 -0500 (Tue, 18 Nov 2025) EllapsedTime: 8.6 seconds RetCode: 0 Status: OK