Package: AnnotationDbi Version: 1.73.0 Command: /Library/Frameworks/R.framework/Resources/bin/R CMD build --keep-empty-dirs --no-resave-data AnnotationDbi StartedAt: 2025-11-26 16:04:11 -0500 (Wed, 26 Nov 2025) EndedAt: 2025-11-26 16:05:32 -0500 (Wed, 26 Nov 2025) EllapsedTime: 81.3 seconds RetCode: 0 Status: OK PackageFile: AnnotationDbi_1.73.0.tar.gz PackageFileSize: 4.172 MiB