Package: AnnotationDbi Version: 1.73.0 Command: /Library/Frameworks/R.framework/Resources/bin/R CMD INSTALL AnnotationDbi StartedAt: 2025-11-26 15:23:09 -0500 (Wed, 26 Nov 2025) EndedAt: 2025-11-26 15:23:38 -0500 (Wed, 26 Nov 2025) EllapsedTime: 28.9 seconds RetCode: 0 Status: OK