Package: AnnotationHubData Version: 1.41.0 Command: /Library/Frameworks/R.framework/Resources/bin/R CMD INSTALL AnnotationHubData StartedAt: 2025-11-18 15:31:34 -0500 (Tue, 18 Nov 2025) EndedAt: 2025-11-18 15:31:52 -0500 (Tue, 18 Nov 2025) EllapsedTime: 18.2 seconds RetCode: 0 Status: OK