Package: ArrayExpress Version: 1.71.0 Command: /Library/Frameworks/R.framework/Resources/bin/R CMD INSTALL ArrayExpress StartedAt: 2025-11-19 15:15:06 -0500 (Wed, 19 Nov 2025) EndedAt: 2025-11-19 15:15:16 -0500 (Wed, 19 Nov 2025) EllapsedTime: 10.3 seconds RetCode: 0 Status: OK