Package: ArrayExpress Version: 1.71.0 Command: rm -rf ArrayExpress.buildbin-libdir && mkdir ArrayExpress.buildbin-libdir && /Users/biocbuild/BBS/utils/build-universal.sh ArrayExpress_1.71.0.tar.gz /Library/Frameworks/R.framework/Resources/bin/R ArrayExpress.buildbin-libdir StartedAt: 2025-11-18 06:48:37 -0500 (Tue, 18 Nov 2025) EndedAt: 2025-11-18 06:49:17 -0500 (Tue, 18 Nov 2025) EllapsedTime: 40.4 seconds RetCode: 0 Status: OK PackageFile: ArrayExpress_1.71.0.tgz PackageFileSize: 183.1 KiB