Package: ArrayExpress Version: 1.71.0 Command: /Library/Frameworks/R.framework/Resources/bin/R CMD build --keep-empty-dirs --no-resave-data ArrayExpress StartedAt: 2025-11-18 16:04:18 -0500 (Tue, 18 Nov 2025) EndedAt: 2025-11-18 16:06:57 -0500 (Tue, 18 Nov 2025) EllapsedTime: 159.0 seconds RetCode: 1 Status: ERROR PackageFile: None PackageFileSize: NA