Package: ArrayExpress Version: 1.71.0 Command: /Library/Frameworks/R.framework/Resources/bin/R CMD INSTALL ArrayExpress StartedAt: 2025-11-18 15:25:57 -0500 (Tue, 18 Nov 2025) EndedAt: 2025-11-18 15:26:32 -0500 (Tue, 18 Nov 2025) EllapsedTime: 34.6 seconds RetCode: 0 Status: OK