Package: ArrayExpress Version: 1.71.0 Command: /home/biocbuild/bbs-3.23-bioc/R/bin/R CMD INSTALL ArrayExpress StartedAt: 2025-11-19 15:25:35 -0500 (Wed, 19 Nov 2025) EndedAt: 2025-11-19 15:26:01 -0500 (Wed, 19 Nov 2025) EllapsedTime: 25.3 seconds RetCode: 0 Status: OK